BEGIN:VCALENDAR
VERSION:2.0
PRODID:-//AusschreibungsRadar//Timeline//DE
CALSCALE:GREGORIAN
METHOD:PUBLISH
X-WR-CALNAME:Projekt Vergabeverfahren Schreinerarbeiten der Rudolf und Maria Guns
X-WR-TIMEZONE:Europe/Berlin
BEGIN:VEVENT
UID:5f2905d4e65de4ef@ausschreibungsradar.com
DTSTAMP:20260424T112930Z
DTSTART;VALUE=DATE:20250801
DTEND;VALUE=DATE:20250801
SUMMARY:Zuschlag — Vergabeverfahren Schreinerarbeiten der Rudolf und Maria Guns
DESCRIPTION:Phase: Zuschlag | Beschreibung: Vergabeergebnis — Auftrag wurde erteilt oder Verfahren beendet. | Link: https://ausschreibungsradar.com/ausschreibung/37db1e1d-08c5-4ed0-a6bd-110bf75ea8be/
URL:https://ausschreibungsradar.com/ausschreibung/37db1e1d-08c5-4ed0-a6bd-110bf75ea8be/
END:VEVENT
BEGIN:VEVENT
UID:0234e815393eef0f@ausschreibungsradar.com
DTSTAMP:20260424T112930Z
DTSTART;VALUE=DATE:20250801
DTEND;VALUE=DATE:20250801
SUMMARY:Zuschlag — Vergabeverfahren Schreinerarbeiten der Rudolf und Maria Guns
DESCRIPTION:Phase: Zuschlag | Beschreibung: Vergabeergebnis — Auftrag wurde erteilt oder Verfahren beendet. | Link: https://ausschreibungsradar.com/ausschreibung/279fbc30-45cb-455f-af0b-4b0fa4deff64/
URL:https://ausschreibungsradar.com/ausschreibung/279fbc30-45cb-455f-af0b-4b0fa4deff64/
END:VEVENT
BEGIN:VEVENT
UID:8e412539ea6b66f5@ausschreibungsradar.com
DTSTAMP:20260424T112930Z
DTSTART;VALUE=DATE:20250804
DTEND;VALUE=DATE:20250804
SUMMARY:Zuschlag — Vergabeverfahren Schreinerarbeiten der Rudolf und Maria Guns
DESCRIPTION:Phase: Zuschlag | Beschreibung: Vergabeergebnis — Auftrag wurde erteilt oder Verfahren beendet. | Link: https://ausschreibungsradar.com/ausschreibung/c14b27bb-1c17-46db-8b39-89abb2a84f78/ | Geschätzte
URL:https://ausschreibungsradar.com/ausschreibung/c14b27bb-1c17-46db-8b39-89abb2a84f78/
END:VEVENT
END:VCALENDAR
