BEGIN:VCALENDAR
VERSION:2.0
PRODID:-//AusschreibungsRadar//Timeline//DE
CALSCALE:GREGORIAN
METHOD:PUBLISH
X-WR-CALNAME:Projekt 049-T2-2024 ÖA Repräsentative Wiederholungsbefragung 2025 zu
X-WR-TIMEZONE:Europe/Berlin
BEGIN:VEVENT
UID:bf815afd902b128f@ausschreibungsradar.com
DTSTAMP:20260426T004636Z
DTSTART;VALUE=DATE:20250117
DTEND;VALUE=DATE:20250117
SUMMARY:Zuschlag — 049-T2-2024 ÖA Repräsentative Wiederholungsbefragung 2025 zu
DESCRIPTION:Phase: Zuschlag | Beschreibung: Vergabeergebnis — Auftrag wurde erteilt oder Verfahren beendet. | Link: https://ausschreibungsradar.com/ausschreibung/a4617421-0a06-4373-9778-e502f685b871/
URL:https://ausschreibungsradar.com/ausschreibung/a4617421-0a06-4373-9778-e502f685b871/
END:VEVENT
BEGIN:VEVENT
UID:dfa6a23edf6a1fce@ausschreibungsradar.com
DTSTAMP:20260426T004636Z
DTSTART;VALUE=DATE:20250128
DTEND;VALUE=DATE:20250128
SUMMARY:Ausschreibung — 049-T2-2024 ÖA Repräsentative Wiederholungsbefragung 2025 zu
DESCRIPTION:Phase: Ausschreibung | Beschreibung: Angebote werden eingeholt | Link: https://ausschreibungsradar.com/ausschreibung/c176a678-c659-4956-b2a3-cf437ca7653e/
URL:https://ausschreibungsradar.com/ausschreibung/c176a678-c659-4956-b2a3-cf437ca7653e/
END:VEVENT
BEGIN:VEVENT
UID:f8209544bd6cba9b@ausschreibungsradar.com
DTSTAMP:20260426T004636Z
DTSTART;VALUE=DATE:20250128
DTEND;VALUE=DATE:20250128
SUMMARY:Änderung — 049-T2-2024 ÖA Repräsentative Wiederholungsbefragung 2025 zu
DESCRIPTION:Phase: Änderung | Beschreibung: Verfahren abgebrochen | Link: https://ausschreibungsradar.com/ausschreibung/c176a678-c659-4956-b2a3-cf437ca7653e/
URL:https://ausschreibungsradar.com/ausschreibung/c176a678-c659-4956-b2a3-cf437ca7653e/
END:VEVENT
END:VCALENDAR
