BEGIN:VCALENDAR
VERSION:2.0
PRODID:-//AusschreibungsRadar//Timeline//DE
CALSCALE:GREGORIAN
METHOD:PUBLISH
X-WR-CALNAME:Projekt Erweiterung des Kurt-Huber-Gymnasiums Nordtrakt / Trockenbau
X-WR-TIMEZONE:Europe/Berlin
BEGIN:VEVENT
UID:ecc503cfba1ae339@ausschreibungsradar.com
DTSTAMP:20260426T002141Z
DTSTART;VALUE=DATE:20250905
DTEND;VALUE=DATE:20250905
SUMMARY:Angebotsfrist — Erweiterung des Kurt-Huber-Gymnasiums Nordtrakt / Trockenbau
DESCRIPTION:Phase: Ausschreibung | Beschreibung: Angebote werden eingeholt | Link: https://ausschreibungsradar.com/ausschreibung/cbb13942-ad24-483e-8f57-006ab3aeac3c/
URL:https://ausschreibungsradar.com/ausschreibung/cbb13942-ad24-483e-8f57-006ab3aeac3c/
END:VEVENT
BEGIN:VEVENT
UID:46437a5a401bdead@ausschreibungsradar.com
DTSTAMP:20260426T002141Z
DTSTART;VALUE=DATE:20251029
DTEND;VALUE=DATE:20251029
SUMMARY:Ausschreibung — Erweiterung des Kurt-Huber-Gymnasiums Nordtrakt / Trockenbau
DESCRIPTION:Phase: Ausschreibung | Beschreibung: Offizielle Ausschreibung mit Bieterfrist. | Link: https://ausschreibungsradar.com/ausschreibung/8f54429f-fe42-4f12-9e47-5e92844555bd/
URL:https://ausschreibungsradar.com/ausschreibung/8f54429f-fe42-4f12-9e47-5e92844555bd/
END:VEVENT
BEGIN:VEVENT
UID:e2582ca724711d61@ausschreibungsradar.com
DTSTAMP:20260426T002141Z
DTSTART;VALUE=DATE:20251104
DTEND;VALUE=DATE:20251104
SUMMARY:Vergabeergebnis — Erweiterung des Kurt-Huber-Gymnasiums Nordtrakt / Trockenbau
DESCRIPTION:Phase: Vergabeergebnis | Beschreibung: Auftrag wurde zugeschlagen | Link: https://ausschreibungsradar.com/ausschreibung/c1da0f01-b97e-438a-be95-e324c3d5fe7e/ | Auftragnehmer: Goldhofer Trockenbau GmbH
URL:https://ausschreibungsradar.com/ausschreibung/c1da0f01-b97e-438a-be95-e324c3d5fe7e/
END:VEVENT
BEGIN:VEVENT
UID:f702c607ff262bc1@ausschreibungsradar.com
DTSTAMP:20260426T002141Z
DTSTART;VALUE=DATE:20251105
DTEND;VALUE=DATE:20251105
SUMMARY:Zuschlag — Erweiterung des Kurt-Huber-Gymnasiums Nordtrakt / Trockenbau
DESCRIPTION:Phase: Zuschlag | Beschreibung: Vergabeergebnis — Auftrag wurde erteilt oder Verfahren beendet. | Link: https://ausschreibungsradar.com/ausschreibung/f3e57f93-9528-458e-9dbb-e0a3b5073bce/
URL:https://ausschreibungsradar.com/ausschreibung/f3e57f93-9528-458e-9dbb-e0a3b5073bce/
END:VEVENT
END:VCALENDAR
