BEGIN:VCALENDAR
VERSION:2.0
PRODID:-//AusschreibungsRadar//Timeline//DE
CALSCALE:GREGORIAN
METHOD:PUBLISH
X-WR-CALNAME:Projekt Gebäudereinigungsleistungen in zwei Verwaltungsobjekten der 
X-WR-TIMEZONE:Europe/Berlin
BEGIN:VEVENT
UID:e873e8ccd2932fb7@ausschreibungsradar.com
DTSTAMP:20260425T150159Z
DTSTART;VALUE=DATE:20240705
DTEND;VALUE=DATE:20240705
SUMMARY:Angebotsfrist — Gebäudereinigungsleistungen in zwei Verwaltungsobjekten der 
DESCRIPTION:Phase: Ausschreibung | Beschreibung: Angebote werden eingeholt | Link: https://ausschreibungsradar.com/ausschreibung/eae7b37c-08db-4e67-aa83-67e468fbf23d/
URL:https://ausschreibungsradar.com/ausschreibung/eae7b37c-08db-4e67-aa83-67e468fbf23d/
END:VEVENT
BEGIN:VEVENT
UID:0292e8e928ff8bac@ausschreibungsradar.com
DTSTAMP:20260425T150159Z
DTSTART;VALUE=DATE:20240814
DTEND;VALUE=DATE:20240814
SUMMARY:Vergabeergebnis — Gebäudereinigungsleistungen in zwei Verwaltungsobjekten der 
DESCRIPTION:Phase: Vergabeergebnis | Beschreibung: Auftrag wurde zugeschlagen | Link: https://ausschreibungsradar.com/ausschreibung/c1dd2fc9-6fd0-48f3-a1c8-629dd2c51a62/
URL:https://ausschreibungsradar.com/ausschreibung/c1dd2fc9-6fd0-48f3-a1c8-629dd2c51a62/
END:VEVENT
END:VCALENDAR
