BEGIN:VCALENDAR
VERSION:2.0
PRODID:-//AusschreibungsRadar//Timeline//DE
CALSCALE:GREGORIAN
METHOD:PUBLISH
X-WR-CALNAME:Projekt Neubau Feuerwache Freital - Los 201 Baufeldfreimachung
X-WR-TIMEZONE:Europe/Berlin
BEGIN:VEVENT
UID:478a1ee3412af533@ausschreibungsradar.com
DTSTAMP:20260424T062309Z
DTSTART;VALUE=DATE:20250604
DTEND;VALUE=DATE:20250604
SUMMARY:Angebotsfrist — Neubau Feuerwache Freital - Los 201 Baufeldfreimachung
DESCRIPTION:Phase: Ausschreibung | Beschreibung: Angebote werden eingeholt | Link: https://ausschreibungsradar.com/ausschreibung/c27b1e6d-cffc-4f4b-830b-239d1736d982/
URL:https://ausschreibungsradar.com/ausschreibung/c27b1e6d-cffc-4f4b-830b-239d1736d982/
END:VEVENT
BEGIN:VEVENT
UID:da5767d5badbd937@ausschreibungsradar.com
DTSTAMP:20260424T062309Z
DTSTART;VALUE=DATE:20250716
DTEND;VALUE=DATE:20250716
SUMMARY:Vergabeergebnis — Neubau Feuerwache Freital - Los 201 Baufeldfreimachung
DESCRIPTION:Phase: Vergabeergebnis | Beschreibung: Auftrag wurde zugeschlagen | Link: https://ausschreibungsradar.com/ausschreibung/ea464ccb-a841-4e07-8456-638673168dcc/
URL:https://ausschreibungsradar.com/ausschreibung/ea464ccb-a841-4e07-8456-638673168dcc/
END:VEVENT
END:VCALENDAR
