BEGIN:VCALENDAR
VERSION:2.0
PRODID:-//AusschreibungsRadar//Timeline//DE
CALSCALE:GREGORIAN
METHOD:PUBLISH
X-WR-CALNAME:Projekt Erfurter Sportbetrieb Multifunktionsarena Erfurt Facility Ma
X-WR-TIMEZONE:Europe/Berlin
BEGIN:VEVENT
UID:7eab4052f35612c6@ausschreibungsradar.com
DTSTAMP:20260425T003139Z
DTSTART;VALUE=DATE:20250327
DTEND;VALUE=DATE:20250327
SUMMARY:Angebotsfrist — Erfurter Sportbetrieb Multifunktionsarena Erfurt Facility Ma
DESCRIPTION:Phase: Ausschreibung | Beschreibung: Angebote werden eingeholt | Link: https://ausschreibungsradar.com/ausschreibung/57541669-e959-4d4e-8965-296b5519d7db/ | Geschätzter Wert: 1 €
URL:https://ausschreibungsradar.com/ausschreibung/57541669-e959-4d4e-8965-296b5519d7db/
END:VEVENT
BEGIN:VEVENT
UID:ccc6f5805de7aa64@ausschreibungsradar.com
DTSTAMP:20260425T003139Z
DTSTART;VALUE=DATE:20250702
DTEND;VALUE=DATE:20250702
SUMMARY:Zuschlag — Erfurter Sportbetrieb Multifunktionsarena Erfurt Facility Ma
DESCRIPTION:Phase: Zuschlag | Beschreibung: Vergabeergebnis — Auftrag wurde erteilt oder Verfahren beendet. | Link: https://ausschreibungsradar.com/ausschreibung/3fdceb14-8cc8-4527-b22c-7acbc484ca66/
URL:https://ausschreibungsradar.com/ausschreibung/3fdceb14-8cc8-4527-b22c-7acbc484ca66/
END:VEVENT
BEGIN:VEVENT
UID:7bbc1a3650a0c3bf@ausschreibungsradar.com
DTSTAMP:20260425T003139Z
DTSTART;VALUE=DATE:20250703
DTEND;VALUE=DATE:20250703
SUMMARY:Vergabeergebnis — Erfurter Sportbetrieb Multifunktionsarena Erfurt Facility Ma
DESCRIPTION:Phase: Vergabeergebnis | Beschreibung: Auftrag wurde zugeschlagen | Link: https://ausschreibungsradar.com/ausschreibung/c2a3c620-d60a-49f0-a254-cb38a2319ee6/ | Geschätzter Wert: 1 €
URL:https://ausschreibungsradar.com/ausschreibung/c2a3c620-d60a-49f0-a254-cb38a2319ee6/
END:VEVENT
END:VCALENDAR
