BEGIN:VCALENDAR
VERSION:2.0
PRODID:-//AusschreibungsRadar//Timeline//DE
CALSCALE:GREGORIAN
METHOD:PUBLISH
X-WR-CALNAME:Projekt Erschließung Saalgebäude Schützenstraße 13 in Osterwieck LOS
X-WR-TIMEZONE:Europe/Berlin
BEGIN:VEVENT
UID:3090fb6def0320c4@ausschreibungsradar.com
DTSTAMP:20260425T123554Z
DTSTART;VALUE=DATE:20250911
DTEND;VALUE=DATE:20250911
SUMMARY:Angebotsfrist — Erschließung Saalgebäude Schützenstraße 13 in Osterwieck LOS
DESCRIPTION:Phase: Ausschreibung | Beschreibung: Angebote werden eingeholt | Link: https://ausschreibungsradar.com/ausschreibung/c2a4e1ec-bacd-4073-8751-25878f3bba17/
URL:https://ausschreibungsradar.com/ausschreibung/c2a4e1ec-bacd-4073-8751-25878f3bba17/
END:VEVENT
BEGIN:VEVENT
UID:696398502ef28297@ausschreibungsradar.com
DTSTAMP:20260425T123554Z
DTSTART;VALUE=DATE:20250821
DTEND;VALUE=DATE:20250821
SUMMARY:Ausschreibung — Erschließung Saalgebäude Schützenstraße 13 in Osterwieck LOS
DESCRIPTION:Phase: Ausschreibung | Beschreibung: Offizielle Ausschreibung mit Bieterfrist. | Link: https://ausschreibungsradar.com/ausschreibung/87661c8e-09be-47a8-9019-6e2970bc2ede/
URL:https://ausschreibungsradar.com/ausschreibung/87661c8e-09be-47a8-9019-6e2970bc2ede/
END:VEVENT
END:VCALENDAR
