BEGIN:VCALENDAR
VERSION:2.0
PRODID:-//AusschreibungsRadar//Timeline//DE
CALSCALE:GREGORIAN
METHOD:PUBLISH
X-WR-CALNAME:Projekt 4-Felder Sporthalle - Schließanlage
X-WR-TIMEZONE:Europe/Berlin
BEGIN:VEVENT
UID:56fc29f0efa92e30@ausschreibungsradar.com
DTSTAMP:20260426T034122Z
DTSTART;VALUE=DATE:20250617
DTEND;VALUE=DATE:20250617
SUMMARY:Angebotsfrist — 4-Felder Sporthalle - Schließanlage
DESCRIPTION:Phase: Ausschreibung | Beschreibung: Angebote werden eingeholt | Link: https://ausschreibungsradar.com/ausschreibung/c32fc5c2-499c-4c58-aac7-aa697bd5b0aa/
URL:https://ausschreibungsradar.com/ausschreibung/c32fc5c2-499c-4c58-aac7-aa697bd5b0aa/
END:VEVENT
BEGIN:VEVENT
UID:e1c7cca4c672be7b@ausschreibungsradar.com
DTSTAMP:20260426T034122Z
DTSTART;VALUE=DATE:20250801
DTEND;VALUE=DATE:20250801
SUMMARY:Vergabeergebnis — 4-Felder Sporthalle - Schließanlage
DESCRIPTION:Phase: Vergabeergebnis | Beschreibung: Auftrag wurde zugeschlagen | Link: https://ausschreibungsradar.com/ausschreibung/23b1807f-c964-49a2-b35d-e41b55ce9f32/
URL:https://ausschreibungsradar.com/ausschreibung/23b1807f-c964-49a2-b35d-e41b55ce9f32/
END:VEVENT
END:VCALENDAR
