BEGIN:VCALENDAR
VERSION:2.0
PRODID:-//AusschreibungsRadar//Timeline//DE
CALSCALE:GREGORIAN
METHOD:PUBLISH
X-WR-CALNAME:Projekt VMware Lizenzen
X-WR-TIMEZONE:Europe/Berlin
BEGIN:VEVENT
UID:af4c0c4ec0590d16@ausschreibungsradar.com
DTSTAMP:20260425T144418Z
DTSTART;VALUE=DATE:20250922
DTEND;VALUE=DATE:20250922
SUMMARY:Angebotsfrist — VMware Lizenzen
DESCRIPTION:Phase: Ausschreibung | Beschreibung: Angebote werden eingeholt | Link: https://ausschreibungsradar.com/ausschreibung/c353ab0a-6eca-4fe7-be67-4d5fad9a521b/ | Geschätzter Wert: 0 €
URL:https://ausschreibungsradar.com/ausschreibung/c353ab0a-6eca-4fe7-be67-4d5fad9a521b/
END:VEVENT
BEGIN:VEVENT
UID:376be39e45942baa@ausschreibungsradar.com
DTSTAMP:20260425T144418Z
DTSTART;VALUE=DATE:20250822
DTEND;VALUE=DATE:20250822
SUMMARY:Ausschreibung — VMware Lizenzen
DESCRIPTION:Phase: Ausschreibung | Beschreibung: Offizielle Ausschreibung mit Bieterfrist. | Link: https://ausschreibungsradar.com/ausschreibung/33a543fe-252e-4dab-b591-c37a620aa71f/
URL:https://ausschreibungsradar.com/ausschreibung/33a543fe-252e-4dab-b591-c37a620aa71f/
END:VEVENT
BEGIN:VEVENT
UID:32aa37993b8732e3@ausschreibungsradar.com
DTSTAMP:20260425T144418Z
DTSTART;VALUE=DATE:20250822
DTEND;VALUE=DATE:20250822
SUMMARY:Ausschreibung — VMware Lizenzen
DESCRIPTION:Phase: Ausschreibung | Beschreibung: Offizielle Ausschreibung mit Bieterfrist. | Link: https://ausschreibungsradar.com/ausschreibung/919a1dc1-ce19-41a7-adfb-2eb7bfca5d2f/
URL:https://ausschreibungsradar.com/ausschreibung/919a1dc1-ce19-41a7-adfb-2eb7bfca5d2f/
END:VEVENT
BEGIN:VEVENT
UID:a409c8235add7f83@ausschreibungsradar.com
DTSTAMP:20260425T144418Z
DTSTART;VALUE=DATE:20251021
DTEND;VALUE=DATE:20251021
SUMMARY:Vergabeergebnis — VMware Lizenzen
DESCRIPTION:Phase: Vergabeergebnis | Beschreibung: Verfahren noch offen | Link: https://ausschreibungsradar.com/ausschreibung/25a08ca5-c6c1-4f40-aa82-df25a5550798/ | Geschätzter Wert: 0 €
URL:https://ausschreibungsradar.com/ausschreibung/25a08ca5-c6c1-4f40-aa82-df25a5550798/
END:VEVENT
BEGIN:VEVENT
UID:bb2391c0870a2429@ausschreibungsradar.com
DTSTAMP:20260425T144418Z
DTSTART;VALUE=DATE:20251021
DTEND;VALUE=DATE:20251021
SUMMARY:Zuschlag — VMware Lizenzen
DESCRIPTION:Phase: Zuschlag | Beschreibung: Vergabeergebnis — Auftrag wurde erteilt oder Verfahren beendet. | Link: https://ausschreibungsradar.com/ausschreibung/95ff916d-c89c-4834-ab89-4898a55ca928/
URL:https://ausschreibungsradar.com/ausschreibung/95ff916d-c89c-4834-ab89-4898a55ca928/
END:VEVENT
END:VCALENDAR
