BEGIN:VCALENDAR
VERSION:2.0
PRODID:-//AusschreibungsRadar//Timeline//DE
CALSCALE:GREGORIAN
METHOD:PUBLISH
X-WR-CALNAME:Projekt Sanitär
X-WR-TIMEZONE:Europe/Berlin
BEGIN:VEVENT
UID:f7957eb06ead5857@ausschreibungsradar.com
DTSTAMP:20260425T180837Z
DTSTART;VALUE=DATE:20240603
DTEND;VALUE=DATE:20240603
SUMMARY:Angebotsfrist — Sanitär
DESCRIPTION:Phase: Ausschreibung | Beschreibung: Angebote werden eingeholt | Link: https://ausschreibungsradar.com/ausschreibung/fb345531-817c-4a21-9dd2-4d4c6ced663d/
URL:https://ausschreibungsradar.com/ausschreibung/fb345531-817c-4a21-9dd2-4d4c6ced663d/
END:VEVENT
BEGIN:VEVENT
UID:5eb45d83d936ef42@ausschreibungsradar.com
DTSTAMP:20260425T180837Z
DTSTART;VALUE=DATE:20250206
DTEND;VALUE=DATE:20250206
SUMMARY:Vergabeergebnis — Sanitär
DESCRIPTION:Phase: Vergabeergebnis | Beschreibung: Auftrag wurde zugeschlagen | Link: https://ausschreibungsradar.com/ausschreibung/c35527b0-5014-44e3-8933-cd20165e7c5a/
URL:https://ausschreibungsradar.com/ausschreibung/c35527b0-5014-44e3-8933-cd20165e7c5a/
END:VEVENT
END:VCALENDAR
