BEGIN:VCALENDAR
VERSION:2.0
PRODID:-//AusschreibungsRadar//Timeline//DE
CALSCALE:GREGORIAN
METHOD:PUBLISH
X-WR-CALNAME:Projekt 012-E-2403 Rahmenvereinbarung Servicezentrum für industriell
X-WR-TIMEZONE:Europe/Berlin
BEGIN:VEVENT
UID:04730b2ac29279f7@ausschreibungsradar.com
DTSTAMP:20260425T143800Z
DTSTART;VALUE=DATE:20240801
DTEND;VALUE=DATE:20240801
SUMMARY:Angebotsfrist — 012-E-2403 Rahmenvereinbarung Servicezentrum für industriell
DESCRIPTION:Phase: Ausschreibung | Beschreibung: Angebote werden eingeholt | Link: https://ausschreibungsradar.com/ausschreibung/55041dfc-656c-49d6-a2cd-bbfff657f97b/
URL:https://ausschreibungsradar.com/ausschreibung/55041dfc-656c-49d6-a2cd-bbfff657f97b/
END:VEVENT
BEGIN:VEVENT
UID:d3685a042b23ee49@ausschreibungsradar.com
DTSTAMP:20260425T143800Z
DTSTART;VALUE=DATE:20240805
DTEND;VALUE=DATE:20240805
SUMMARY:Vergabeergebnis — 012-E-2403 Rahmenvereinbarung Servicezentrum für industriell
DESCRIPTION:Phase: Vergabeergebnis | Beschreibung: Alle Angebote ausgeschlossen | Link: https://ausschreibungsradar.com/ausschreibung/c3591a77-4fdb-4ac9-ba0b-c3618b15bade/
URL:https://ausschreibungsradar.com/ausschreibung/c3591a77-4fdb-4ac9-ba0b-c3618b15bade/
END:VEVENT
END:VCALENDAR
