BEGIN:VCALENDAR
VERSION:2.0
PRODID:-//AusschreibungsRadar//Timeline//DE
CALSCALE:GREGORIAN
METHOD:PUBLISH
X-WR-CALNAME:Projekt Trockenbauarbeiten_VergBekannt
X-WR-TIMEZONE:Europe/Berlin
BEGIN:VEVENT
UID:199ef1d6a13d1061@ausschreibungsradar.com
DTSTAMP:20260425T144120Z
DTSTART;VALUE=DATE:20240516
DTEND;VALUE=DATE:20240516
SUMMARY:Angebotsfrist — Trockenbauarbeiten_VergBekannt
DESCRIPTION:Phase: Ausschreibung | Beschreibung: Angebote werden eingeholt | Link: https://ausschreibungsradar.com/ausschreibung/afa73366-d911-4e8c-bcbd-8983a733f1ed/
URL:https://ausschreibungsradar.com/ausschreibung/afa73366-d911-4e8c-bcbd-8983a733f1ed/
END:VEVENT
BEGIN:VEVENT
UID:45b42b8451271352@ausschreibungsradar.com
DTSTAMP:20260425T144120Z
DTSTART;VALUE=DATE:20240718
DTEND;VALUE=DATE:20240718
SUMMARY:Vergabeergebnis — Trockenbauarbeiten_VergBekannt
DESCRIPTION:Phase: Vergabeergebnis | Beschreibung: Auftrag wurde zugeschlagen | Link: https://ausschreibungsradar.com/ausschreibung/c37a7e39-830b-4c97-9ed2-a9b6478f4190/
URL:https://ausschreibungsradar.com/ausschreibung/c37a7e39-830b-4c97-9ed2-a9b6478f4190/
END:VEVENT
BEGIN:VEVENT
UID:b5bb2fc26b6398a8@ausschreibungsradar.com
DTSTAMP:20260425T144120Z
DTSTART;VALUE=DATE:20240722
DTEND;VALUE=DATE:20240722
SUMMARY:Zuschlag — Trockenbauarbeiten_VergBekannt
DESCRIPTION:Phase: Zuschlag | Beschreibung: Vergabeergebnis — Auftrag wurde erteilt oder Verfahren beendet. | Link: https://ausschreibungsradar.com/ausschreibung/ted-439358-2024/
URL:https://ausschreibungsradar.com/ausschreibung/ted-439358-2024/
END:VEVENT
END:VCALENDAR
