BEGIN:VCALENDAR
VERSION:2.0
PRODID:-//AusschreibungsRadar//Timeline//DE
CALSCALE:GREGORIAN
METHOD:PUBLISH
X-WR-CALNAME:Projekt Herstellung Bewässerungsbrunnen und Solarpumpen
X-WR-TIMEZONE:Europe/Berlin
BEGIN:VEVENT
UID:cc6f9599766666f5@ausschreibungsradar.com
DTSTAMP:20260424T143040Z
DTSTART;VALUE=DATE:20250521
DTEND;VALUE=DATE:20250521
SUMMARY:Ausschreibung — Herstellung Bewässerungsbrunnen und Solarpumpen
DESCRIPTION:Phase: Ausschreibung | Beschreibung: Angebote werden eingeholt | Link: https://ausschreibungsradar.com/ausschreibung/017d4e71-4815-4c62-9989-7933d8eaa8f2/
URL:https://ausschreibungsradar.com/ausschreibung/017d4e71-4815-4c62-9989-7933d8eaa8f2/
END:VEVENT
BEGIN:VEVENT
UID:b106a407b94b8fd5@ausschreibungsradar.com
DTSTAMP:20260424T143040Z
DTSTART;VALUE=DATE:20250805
DTEND;VALUE=DATE:20250805
SUMMARY:Vergabeergebnis — Herstellung Bewässerungsbrunnen und Solarpumpen
DESCRIPTION:Phase: Vergabeergebnis | Beschreibung: Auftrag wurde zugeschlagen | Link: https://ausschreibungsradar.com/ausschreibung/c3a53c4a-1a4f-4d8c-ba1f-67df607202de/
URL:https://ausschreibungsradar.com/ausschreibung/c3a53c4a-1a4f-4d8c-ba1f-67df607202de/
END:VEVENT
END:VCALENDAR
