BEGIN:VCALENDAR
VERSION:2.0
PRODID:-//AusschreibungsRadar//Timeline//DE
CALSCALE:GREGORIAN
METHOD:PUBLISH
X-WR-CALNAME:Projekt Rückversetzung - Nebau Förderzentrum West (FZ) und Straßenve
X-WR-TIMEZONE:Europe/Berlin
BEGIN:VEVENT
UID:5fa60d41232564c8@ausschreibungsradar.com
DTSTAMP:20260426T040345Z
DTSTART;VALUE=DATE:20240617
DTEND;VALUE=DATE:20240617
SUMMARY:Zuschlag — Rückversetzung - Nebau Förderzentrum West (FZ) und Straßenve
DESCRIPTION:Phase: Zuschlag | Beschreibung: Vergabeergebnis — Auftrag wurde erteilt oder Verfahren beendet. | Link: https://ausschreibungsradar.com/ausschreibung/a4954c7d-ed80-4437-baea-029676c9790a/
URL:https://ausschreibungsradar.com/ausschreibung/a4954c7d-ed80-4437-baea-029676c9790a/
END:VEVENT
BEGIN:VEVENT
UID:19d97561958ad4f2@ausschreibungsradar.com
DTSTAMP:20260426T040345Z
DTSTART;VALUE=DATE:20240704
DTEND;VALUE=DATE:20240704
SUMMARY:Angebotsfrist — Rückversetzung - Nebau Förderzentrum West (FZ) und Straßenve
DESCRIPTION:Phase: Ausschreibung | Beschreibung: Angebote werden eingeholt | Link: https://ausschreibungsradar.com/ausschreibung/c402d42b-7425-4b6f-a7a4-5a404c2df6cd/
URL:https://ausschreibungsradar.com/ausschreibung/c402d42b-7425-4b6f-a7a4-5a404c2df6cd/
END:VEVENT
BEGIN:VEVENT
UID:ce66bd5a909f1094@ausschreibungsradar.com
DTSTAMP:20260426T040345Z
DTSTART;VALUE=DATE:20240619
DTEND;VALUE=DATE:20240619
SUMMARY:Ausschreibung — Rückversetzung - Nebau Förderzentrum West (FZ) und Straßenve
DESCRIPTION:Phase: Ausschreibung | Beschreibung: Offizielle Ausschreibung mit Bieterfrist. | Link: https://ausschreibungsradar.com/ausschreibung/ted-363794-2024/
URL:https://ausschreibungsradar.com/ausschreibung/ted-363794-2024/
END:VEVENT
BEGIN:VEVENT
UID:2ba494e7efa38e33@ausschreibungsradar.com
DTSTAMP:20260426T040345Z
DTSTART;VALUE=DATE:20240902
DTEND;VALUE=DATE:20240902
SUMMARY:Vergabeergebnis — Rückversetzung - Nebau Förderzentrum West (FZ) und Straßenve
DESCRIPTION:Phase: Vergabeergebnis | Beschreibung: Auftrag wurde zugeschlagen | Link: https://ausschreibungsradar.com/ausschreibung/1c35b32a-850c-43ff-a2f3-61db7bf5ec9b/
URL:https://ausschreibungsradar.com/ausschreibung/1c35b32a-850c-43ff-a2f3-61db7bf5ec9b/
END:VEVENT
END:VCALENDAR
