BEGIN:VCALENDAR
VERSION:2.0
PRODID:-//AusschreibungsRadar//Timeline//DE
CALSCALE:GREGORIAN
METHOD:PUBLISH
X-WR-CALNAME:Projekt Rahmenvereinbarung - Sicherheitsrevisionsprüfungen - Sportha
X-WR-TIMEZONE:Europe/Berlin
BEGIN:VEVENT
UID:6277ed5b95f47f18@ausschreibungsradar.com
DTSTAMP:20260425T003748Z
DTSTART;VALUE=DATE:20260106
DTEND;VALUE=DATE:20260106
SUMMARY:Angebotsfrist — Rahmenvereinbarung - Sicherheitsrevisionsprüfungen - Sportha
DESCRIPTION:Phase: Ausschreibung | Beschreibung: Angebote werden eingeholt | Link: https://ausschreibungsradar.com/ausschreibung/c4144408-b25d-4849-9c6d-cc89a326ea86/
URL:https://ausschreibungsradar.com/ausschreibung/c4144408-b25d-4849-9c6d-cc89a326ea86/
END:VEVENT
BEGIN:VEVENT
UID:b949e96e4f42b75c@ausschreibungsradar.com
DTSTAMP:20260425T003748Z
DTSTART;VALUE=DATE:20260224
DTEND;VALUE=DATE:20260224
SUMMARY:Vergabeergebnis — Rahmenvereinbarung - Sicherheitsrevisionsprüfungen - Sportha
DESCRIPTION:Phase: Vergabeergebnis | Beschreibung: Auftrag wurde zugeschlagen | Link: https://ausschreibungsradar.com/ausschreibung/a1d6554d-b3f2-47ac-9776-add3a299eb60/
URL:https://ausschreibungsradar.com/ausschreibung/a1d6554d-b3f2-47ac-9776-add3a299eb60/
END:VEVENT
END:VCALENDAR
