BEGIN:VCALENDAR
VERSION:2.0
PRODID:-//AusschreibungsRadar//Timeline//DE
CALSCALE:GREGORIAN
METHOD:PUBLISH
X-WR-CALNAME:Projekt Erneuerung der Fahrleitungsanlage Linie U76, Bauabschnitte 1
X-WR-TIMEZONE:Europe/Berlin
BEGIN:VEVENT
UID:b72b1036ce8e10f2@ausschreibungsradar.com
DTSTAMP:20260424T142955Z
DTSTART;VALUE=DATE:20250909
DTEND;VALUE=DATE:20250909
SUMMARY:Angebotsfrist — Erneuerung der Fahrleitungsanlage Linie U76\, Bauabschnitte 1
DESCRIPTION:Phase: Ausschreibung | Beschreibung: Angebote werden eingeholt | Link: https://ausschreibungsradar.com/ausschreibung/c439053e-4f00-4794-88df-de1d5f3dac4a/
URL:https://ausschreibungsradar.com/ausschreibung/c439053e-4f00-4794-88df-de1d5f3dac4a/
END:VEVENT
BEGIN:VEVENT
UID:e0a13aee748c546b@ausschreibungsradar.com
DTSTAMP:20260424T142955Z
DTSTART;VALUE=DATE:20250706
DTEND;VALUE=DATE:20250706
SUMMARY:Ausschreibung — Erneuerung der Fahrleitungsanlage Linie U76\, Bauabschnitte 1
DESCRIPTION:Phase: Ausschreibung | Beschreibung: Offizielle Ausschreibung mit Bieterfrist. | Link: https://ausschreibungsradar.com/ausschreibung/910d8957-a9f7-498c-9c5a-378fe6f9e5f3/
URL:https://ausschreibungsradar.com/ausschreibung/910d8957-a9f7-498c-9c5a-378fe6f9e5f3/
END:VEVENT
BEGIN:VEVENT
UID:0cad269ba7e4933d@ausschreibungsradar.com
DTSTAMP:20260424T142955Z
DTSTART;VALUE=DATE:20250706
DTEND;VALUE=DATE:20250706
SUMMARY:Ausschreibung — Erneuerung der Fahrleitungsanlage Linie U76\, Bauabschnitte 1
DESCRIPTION:Phase: Ausschreibung | Beschreibung: Offizielle Ausschreibung mit Bieterfrist. | Link: https://ausschreibungsradar.com/ausschreibung/120d1ebc-0baf-4fdf-ae78-38ef4b5c3341/
URL:https://ausschreibungsradar.com/ausschreibung/120d1ebc-0baf-4fdf-ae78-38ef4b5c3341/
END:VEVENT
BEGIN:VEVENT
UID:75353b1593e86621@ausschreibungsradar.com
DTSTAMP:20260424T142955Z
DTSTART;VALUE=DATE:20251220
DTEND;VALUE=DATE:20251220
SUMMARY:Vergabeergebnis — Erneuerung der Fahrleitungsanlage Linie U76\, Bauabschnitte 1
DESCRIPTION:Phase: Vergabeergebnis | Beschreibung: Auftrag wurde zugeschlagen | Link: https://ausschreibungsradar.com/ausschreibung/3ae476a6-3fc6-4fd7-b3d6-14f5080753e2/
URL:https://ausschreibungsradar.com/ausschreibung/3ae476a6-3fc6-4fd7-b3d6-14f5080753e2/
END:VEVENT
END:VCALENDAR
