BEGIN:VCALENDAR
VERSION:2.0
PRODID:-//AusschreibungsRadar//Timeline//DE
CALSCALE:GREGORIAN
METHOD:PUBLISH
X-WR-CALNAME:Projekt Neubau einer Kindertagesstätte für die Stadt Neumarkt i.d.OP
X-WR-TIMEZONE:Europe/Berlin
BEGIN:VEVENT
UID:dec201bf374b7c05@ausschreibungsradar.com
DTSTAMP:20260425T155240Z
DTSTART;VALUE=DATE:20240718
DTEND;VALUE=DATE:20240718
SUMMARY:Angebotsfrist — Neubau einer Kindertagesstätte für die Stadt Neumarkt i.d.OP
DESCRIPTION:Phase: Ausschreibung | Beschreibung: Angebote werden eingeholt | Link: https://ausschreibungsradar.com/ausschreibung/c454adec-2248-4e75-983b-d4df761d899e/
URL:https://ausschreibungsradar.com/ausschreibung/c454adec-2248-4e75-983b-d4df761d899e/
END:VEVENT
BEGIN:VEVENT
UID:8904e698b5a551e1@ausschreibungsradar.com
DTSTAMP:20260425T155240Z
DTSTART;VALUE=DATE:20240617
DTEND;VALUE=DATE:20240617
SUMMARY:Ausschreibung — Neubau einer Kindertagesstätte für die Stadt Neumarkt i.d.OP
DESCRIPTION:Phase: Ausschreibung | Beschreibung: Offizielle Ausschreibung mit Bieterfrist. | Link: https://ausschreibungsradar.com/ausschreibung/83c8413d-3510-467f-846b-14dbc73d96d8/
URL:https://ausschreibungsradar.com/ausschreibung/83c8413d-3510-467f-846b-14dbc73d96d8/
END:VEVENT
END:VCALENDAR
