BEGIN:VCALENDAR
VERSION:2.0
PRODID:-//AusschreibungsRadar//Timeline//DE
CALSCALE:GREGORIAN
METHOD:PUBLISH
X-WR-CALNAME:Projekt Fraunhofer IBMT / IZFP Saarbrücken - 70-00421-2250-703_D Tec
X-WR-TIMEZONE:Europe/Berlin
BEGIN:VEVENT
UID:27dbc2b3faf24f1f@ausschreibungsradar.com
DTSTAMP:20260425T190305Z
DTSTART;VALUE=DATE:20250212
DTEND;VALUE=DATE:20250212
SUMMARY:Ausschreibung — Fraunhofer IBMT / IZFP Saarbrücken - 70-00421-2250-703_D Tec
DESCRIPTION:Phase: Ausschreibung | Beschreibung: Angebote werden eingeholt | Link: https://ausschreibungsradar.com/ausschreibung/c473dd0c-ba0c-4f1d-b6b9-658abbbceb8e/ | Geschätzter Wert: 620898 €
URL:https://ausschreibungsradar.com/ausschreibung/c473dd0c-ba0c-4f1d-b6b9-658abbbceb8e/
END:VEVENT
BEGIN:VEVENT
UID:1e12e4bda094e721@ausschreibungsradar.com
DTSTAMP:20260425T190305Z
DTSTART;VALUE=DATE:20250213
DTEND;VALUE=DATE:20250213
SUMMARY:Ausschreibung — Fraunhofer IBMT / IZFP Saarbrücken - 70-00421-2250-703_D Tec
DESCRIPTION:Phase: Ausschreibung | Beschreibung: Offizielle Ausschreibung mit Bieterfrist. | Link: https://ausschreibungsradar.com/ausschreibung/b9d2dd16-bfe1-400b-9202-3e5afbdce318/
URL:https://ausschreibungsradar.com/ausschreibung/b9d2dd16-bfe1-400b-9202-3e5afbdce318/
END:VEVENT
BEGIN:VEVENT
UID:6c27abb9bb3a757e@ausschreibungsradar.com
DTSTAMP:20260425T190305Z
DTSTART;VALUE=DATE:20250826
DTEND;VALUE=DATE:20250826
SUMMARY:Vergabeergebnis — Fraunhofer IBMT / IZFP Saarbrücken - 70-00421-2250-703_D Tec
DESCRIPTION:Phase: Vergabeergebnis | Beschreibung: Auftrag wurde zugeschlagen | Link: https://ausschreibungsradar.com/ausschreibung/0f28a1e9-c60a-47ca-a175-1002a382439a/
URL:https://ausschreibungsradar.com/ausschreibung/0f28a1e9-c60a-47ca-a175-1002a382439a/
END:VEVENT
END:VCALENDAR
