BEGIN:VCALENDAR
VERSION:2.0
PRODID:-//AusschreibungsRadar//Timeline//DE
CALSCALE:GREGORIAN
METHOD:PUBLISH
X-WR-CALNAME:Projekt B37 Malerarbeiten, DLG, Konviktstr. 11a, Neubau 3Fach-TH m. 
X-WR-TIMEZONE:Europe/Berlin
BEGIN:VEVENT
UID:9e015278519e410e@ausschreibungsradar.com
DTSTAMP:20260424T233003Z
DTSTART;VALUE=DATE:20240516
DTEND;VALUE=DATE:20240516
SUMMARY:Angebotsfrist — B37 Malerarbeiten\, DLG\, Konviktstr. 11a\, Neubau 3Fach-TH m. 
DESCRIPTION:Phase: Ausschreibung | Beschreibung: Angebote werden eingeholt | Link: https://ausschreibungsradar.com/ausschreibung/c474411e-29e2-4268-9646-3d39e7bf9671/
URL:https://ausschreibungsradar.com/ausschreibung/c474411e-29e2-4268-9646-3d39e7bf9671/
END:VEVENT
BEGIN:VEVENT
UID:f6940a278ac077ec@ausschreibungsradar.com
DTSTAMP:20260424T233003Z
DTSTART;VALUE=DATE:20240416
DTEND;VALUE=DATE:20240416
SUMMARY:Ausschreibung — B37 Malerarbeiten\, DLG\, Konviktstr. 11a\, Neubau 3Fach-TH m. 
DESCRIPTION:Phase: Ausschreibung | Beschreibung: Offizielle Ausschreibung mit Bieterfrist. | Link: https://ausschreibungsradar.com/ausschreibung/9a99f424-5ca4-450f-a563-2869a2843e39/
URL:https://ausschreibungsradar.com/ausschreibung/9a99f424-5ca4-450f-a563-2869a2843e39/
END:VEVENT
BEGIN:VEVENT
UID:4e5adb3b837ea91a@ausschreibungsradar.com
DTSTAMP:20260424T233003Z
DTSTART;VALUE=DATE:20240610
DTEND;VALUE=DATE:20240610
SUMMARY:Vergabeergebnis — B37 Malerarbeiten\, DLG\, Konviktstr. 11a\, Neubau 3Fach-TH m. 
DESCRIPTION:Phase: Vergabeergebnis | Beschreibung: Auftrag wurde zugeschlagen | Link: https://ausschreibungsradar.com/ausschreibung/77c76661-b0ac-40a3-8a6d-9e9a4ddbacd3/
URL:https://ausschreibungsradar.com/ausschreibung/77c76661-b0ac-40a3-8a6d-9e9a4ddbacd3/
END:VEVENT
END:VCALENDAR
