BEGIN:VCALENDAR
VERSION:2.0
PRODID:-//AusschreibungsRadar//Timeline//DE
CALSCALE:GREGORIAN
METHOD:PUBLISH
X-WR-CALNAME:Projekt 81320184-Capacity building and certification for Renewable E
X-WR-TIMEZONE:Europe/Berlin
BEGIN:VEVENT
UID:d9972afdeb056e35@ausschreibungsradar.com
DTSTAMP:20260424T090900Z
DTSTART;VALUE=DATE:20251120
DTEND;VALUE=DATE:20251120
SUMMARY:Angebotsfrist — 81320184-Capacity building and certification for Renewable E
DESCRIPTION:Phase: Ausschreibung | Beschreibung: Angebote werden eingeholt | Link: https://ausschreibungsradar.com/ausschreibung/c475e6d4-bfcc-4d53-aaf2-1652336ce3b3/
URL:https://ausschreibungsradar.com/ausschreibung/c475e6d4-bfcc-4d53-aaf2-1652336ce3b3/
END:VEVENT
BEGIN:VEVENT
UID:34acaaa1f8772571@ausschreibungsradar.com
DTSTAMP:20260424T090900Z
DTSTART;VALUE=DATE:20260224
DTEND;VALUE=DATE:20260224
SUMMARY:Vergabeergebnis — 81320184-Capacity building and certification for Renewable E
DESCRIPTION:Phase: Vergabeergebnis | Beschreibung: Auftrag wurde zugeschlagen | Link: https://ausschreibungsradar.com/ausschreibung/97d2d39d-06be-4a4e-8136-6d4200931bd3/
URL:https://ausschreibungsradar.com/ausschreibung/97d2d39d-06be-4a4e-8136-6d4200931bd3/
END:VEVENT
END:VCALENDAR
