BEGIN:VCALENDAR
VERSION:2.0
PRODID:-//AusschreibungsRadar//Timeline//DE
CALSCALE:GREGORIAN
METHOD:PUBLISH
X-WR-CALNAME:Projekt Neubau Kindertagesstätte, Im Brühl 26, Elektroarbeiten
X-WR-TIMEZONE:Europe/Berlin
BEGIN:VEVENT
UID:cf28ad577a4231dc@ausschreibungsradar.com
DTSTAMP:20260424T151221Z
DTSTART;VALUE=DATE:20240515
DTEND;VALUE=DATE:20240515
SUMMARY:Zuschlag — Neubau Kindertagesstätte\, Im Brühl 26\, Elektroarbeiten
DESCRIPTION:Phase: Zuschlag | Beschreibung: Vergabeergebnis — Auftrag wurde erteilt oder Verfahren beendet. | Link: https://ausschreibungsradar.com/ausschreibung/7d1d3d13-257a-422d-9ef9-49b2ed5dd94e/
URL:https://ausschreibungsradar.com/ausschreibung/7d1d3d13-257a-422d-9ef9-49b2ed5dd94e/
END:VEVENT
BEGIN:VEVENT
UID:7cb30ee61173481b@ausschreibungsradar.com
DTSTAMP:20260424T151221Z
DTSTART;VALUE=DATE:20240626
DTEND;VALUE=DATE:20240626
SUMMARY:Angebotsfrist — Neubau Kindertagesstätte\, Im Brühl 26\, Elektroarbeiten
DESCRIPTION:Phase: Ausschreibung | Beschreibung: Angebote werden eingeholt | Link: https://ausschreibungsradar.com/ausschreibung/c4f6d673-3ffa-4c4e-b2be-c134f468deba/
URL:https://ausschreibungsradar.com/ausschreibung/c4f6d673-3ffa-4c4e-b2be-c134f468deba/
END:VEVENT
BEGIN:VEVENT
UID:b0e67268bbc73b23@ausschreibungsradar.com
DTSTAMP:20260424T151221Z
DTSTART;VALUE=DATE:20240524
DTEND;VALUE=DATE:20240524
SUMMARY:Ausschreibung — Neubau Kindertagesstätte\, Im Brühl 26\, Elektroarbeiten
DESCRIPTION:Phase: Ausschreibung | Beschreibung: Offizielle Ausschreibung mit Bieterfrist. | Link: https://ausschreibungsradar.com/ausschreibung/3b2f84db-55c8-494b-a580-486068924412/
URL:https://ausschreibungsradar.com/ausschreibung/3b2f84db-55c8-494b-a580-486068924412/
END:VEVENT
BEGIN:VEVENT
UID:8b5027af2257bde9@ausschreibungsradar.com
DTSTAMP:20260424T151221Z
DTSTART;VALUE=DATE:20240524
DTEND;VALUE=DATE:20240524
SUMMARY:Ausschreibung — Neubau Kindertagesstätte\, Im Brühl 26\, Elektroarbeiten
DESCRIPTION:Phase: Ausschreibung | Beschreibung: Offizielle Ausschreibung mit Bieterfrist. | Link: https://ausschreibungsradar.com/ausschreibung/4979a472-e414-4a18-add1-6e56868acc49/
URL:https://ausschreibungsradar.com/ausschreibung/4979a472-e414-4a18-add1-6e56868acc49/
END:VEVENT
BEGIN:VEVENT
UID:0d6559b12277db08@ausschreibungsradar.com
DTSTAMP:20260424T151221Z
DTSTART;VALUE=DATE:20240524
DTEND;VALUE=DATE:20240524
SUMMARY:Ausschreibung — Neubau Kindertagesstätte\, Im Brühl 26\, Elektroarbeiten
DESCRIPTION:Phase: Ausschreibung | Beschreibung: Offizielle Ausschreibung mit Bieterfrist. | Link: https://ausschreibungsradar.com/ausschreibung/3e77c1b3-4bdd-4219-bcf3-fe0a48888af7/
URL:https://ausschreibungsradar.com/ausschreibung/3e77c1b3-4bdd-4219-bcf3-fe0a48888af7/
END:VEVENT
BEGIN:VEVENT
UID:518417b967e119e1@ausschreibungsradar.com
DTSTAMP:20260424T151221Z
DTSTART;VALUE=DATE:20240724
DTEND;VALUE=DATE:20240724
SUMMARY:Vergabeergebnis — Neubau Kindertagesstätte\, Im Brühl 26\, Elektroarbeiten
DESCRIPTION:Phase: Vergabeergebnis | Beschreibung: Auftrag wurde zugeschlagen | Link: https://ausschreibungsradar.com/ausschreibung/adfce81b-5a90-4b0b-83d1-d0d1598c793d/
URL:https://ausschreibungsradar.com/ausschreibung/adfce81b-5a90-4b0b-83d1-d0d1598c793d/
END:VEVENT
END:VCALENDAR
