BEGIN:VCALENDAR
VERSION:2.0
PRODID:-//AusschreibungsRadar//Timeline//DE
CALSCALE:GREGORIAN
METHOD:PUBLISH
X-WR-CALNAME:Projekt Pflege und Unterhaltung von Grünflächen
X-WR-TIMEZONE:Europe/Berlin
BEGIN:VEVENT
UID:4f8125423bd25d04@ausschreibungsradar.com
DTSTAMP:20260425T184723Z
DTSTART;VALUE=DATE:20260505
DTEND;VALUE=DATE:20260505
SUMMARY:Angebotsfrist — Pflege und Unterhaltung von Grünflächen
DESCRIPTION:Phase: Ausschreibung | Beschreibung: Angebote werden eingeholt | Link: https://ausschreibungsradar.com/ausschreibung/c5167150-7f44-43cf-84cc-a612ec87ecbe/
URL:https://ausschreibungsradar.com/ausschreibung/c5167150-7f44-43cf-84cc-a612ec87ecbe/
END:VEVENT
END:VCALENDAR
