BEGIN:VCALENDAR
VERSION:2.0
PRODID:-//AusschreibungsRadar//Timeline//DE
CALSCALE:GREGORIAN
METHOD:PUBLISH
X-WR-CALNAME:Projekt Prüfungs- und Beratungsleistungen Interne Revision und Non-F
X-WR-TIMEZONE:Europe/Berlin
BEGIN:VEVENT
UID:4941b7e530864946@ausschreibungsradar.com
DTSTAMP:20260424T073422Z
DTSTART;VALUE=DATE:20260421
DTEND;VALUE=DATE:20260421
SUMMARY:Ausschreibung — Prüfungs- und Beratungsleistungen Interne Revision und Non-F
DESCRIPTION:Phase: Ausschreibung | Beschreibung: Offizielle Ausschreibung mit Bieterfrist. | Link: https://ausschreibungsradar.com/ausschreibung/c57e6102-b5da-431e-9617-2a0b7ef4f859/
URL:https://ausschreibungsradar.com/ausschreibung/c57e6102-b5da-431e-9617-2a0b7ef4f859/
END:VEVENT
BEGIN:VEVENT
UID:e0d9d517bad98373@ausschreibungsradar.com
DTSTAMP:20260424T073422Z
DTSTART;VALUE=DATE:20260421
DTEND;VALUE=DATE:20260421
SUMMARY:Ausschreibung — Prüfungs- und Beratungsleistungen Interne Revision und Non-F
DESCRIPTION:Phase: Ausschreibung | Beschreibung: Offizielle Ausschreibung mit Bieterfrist. | Link: https://ausschreibungsradar.com/ausschreibung/974e0384-b3f5-4647-a42c-48f1b1df879a/
URL:https://ausschreibungsradar.com/ausschreibung/974e0384-b3f5-4647-a42c-48f1b1df879a/
END:VEVENT
BEGIN:VEVENT
UID:2e246b6901a00551@ausschreibungsradar.com
DTSTAMP:20260424T073422Z
DTSTART;VALUE=DATE:20260421
DTEND;VALUE=DATE:20260421
SUMMARY:Ausschreibung — Prüfungs- und Beratungsleistungen Interne Revision und Non-F
DESCRIPTION:Phase: Ausschreibung | Beschreibung: Offizielle Ausschreibung mit Bieterfrist. | Link: https://ausschreibungsradar.com/ausschreibung/274d7166-9a81-4530-a303-4a6a76abc17c/
URL:https://ausschreibungsradar.com/ausschreibung/274d7166-9a81-4530-a303-4a6a76abc17c/
END:VEVENT
BEGIN:VEVENT
UID:a9403291885d2fa5@ausschreibungsradar.com
DTSTAMP:20260424T073422Z
DTSTART;VALUE=DATE:20260421
DTEND;VALUE=DATE:20260421
SUMMARY:Ausschreibung — Prüfungs- und Beratungsleistungen Interne Revision und Non-F
DESCRIPTION:Phase: Ausschreibung | Beschreibung: Offizielle Ausschreibung mit Bieterfrist. | Link: https://ausschreibungsradar.com/ausschreibung/4d3a55c0-9760-415f-abfb-dcab156fd611/
URL:https://ausschreibungsradar.com/ausschreibung/4d3a55c0-9760-415f-abfb-dcab156fd611/
END:VEVENT
END:VCALENDAR
