BEGIN:VCALENDAR
VERSION:2.0
PRODID:-//AusschreibungsRadar//Timeline//DE
CALSCALE:GREGORIAN
METHOD:PUBLISH
X-WR-CALNAME:Projekt Erweiterung Grundschule Großschwarzenlohe - Sanitär
X-WR-TIMEZONE:Europe/Berlin
BEGIN:VEVENT
UID:af6795848becff59@ausschreibungsradar.com
DTSTAMP:20260424T133314Z
DTSTART;VALUE=DATE:20250602
DTEND;VALUE=DATE:20250602
SUMMARY:Angebotsfrist — Erweiterung Grundschule Großschwarzenlohe - Sanitär
DESCRIPTION:Phase: Ausschreibung | Beschreibung: Angebote werden eingeholt | Link: https://ausschreibungsradar.com/ausschreibung/3b878cd5-80aa-41e9-b507-e0f870b8c689/ | Geschätzter Wert: 159890 €
URL:https://ausschreibungsradar.com/ausschreibung/3b878cd5-80aa-41e9-b507-e0f870b8c689/
END:VEVENT
BEGIN:VEVENT
UID:a462fff302a2e285@ausschreibungsradar.com
DTSTAMP:20260424T133314Z
DTSTART;VALUE=DATE:20250603
DTEND;VALUE=DATE:20250603
SUMMARY:Zuschlag — Erweiterung Grundschule Großschwarzenlohe - Sanitär
DESCRIPTION:Phase: Zuschlag | Beschreibung: Vergabeergebnis — Auftrag wurde erteilt oder Verfahren beendet. | Link: https://ausschreibungsradar.com/ausschreibung/cdc41270-cc2d-4086-a493-cb13933e3417/
URL:https://ausschreibungsradar.com/ausschreibung/cdc41270-cc2d-4086-a493-cb13933e3417/
END:VEVENT
BEGIN:VEVENT
UID:31038ade0cda674d@ausschreibungsradar.com
DTSTAMP:20260424T133314Z
DTSTART;VALUE=DATE:20250702
DTEND;VALUE=DATE:20250702
SUMMARY:Vergabeergebnis — Erweiterung Grundschule Großschwarzenlohe - Sanitär
DESCRIPTION:Phase: Vergabeergebnis | Beschreibung: Auftrag wurde zugeschlagen | Link: https://ausschreibungsradar.com/ausschreibung/c5dd2455-586a-4829-88df-eef9aa8df0d5/
URL:https://ausschreibungsradar.com/ausschreibung/c5dd2455-586a-4829-88df-eef9aa8df0d5/
END:VEVENT
BEGIN:VEVENT
UID:79d5056236302eb0@ausschreibungsradar.com
DTSTAMP:20260424T133314Z
DTSTART;VALUE=DATE:20250702
DTEND;VALUE=DATE:20250702
SUMMARY:Zuschlag — Erweiterung Grundschule Großschwarzenlohe - Sanitär
DESCRIPTION:Phase: Zuschlag | Beschreibung: Vergabeergebnis — Auftrag wurde erteilt oder Verfahren beendet. | Link: https://ausschreibungsradar.com/ausschreibung/7904db5f-4cca-4144-a3a1-5260b526be9f/
URL:https://ausschreibungsradar.com/ausschreibung/7904db5f-4cca-4144-a3a1-5260b526be9f/
END:VEVENT
BEGIN:VEVENT
UID:6f846603eb95b1a5@ausschreibungsradar.com
DTSTAMP:20260424T133314Z
DTSTART;VALUE=DATE:20250728
DTEND;VALUE=DATE:20250728
SUMMARY:Zuschlag — Erweiterung Grundschule Großschwarzenlohe - Sanitär
DESCRIPTION:Phase: Zuschlag | Beschreibung: Vergabeergebnis — Auftrag wurde erteilt oder Verfahren beendet. | Link: https://ausschreibungsradar.com/ausschreibung/657584f9-e8ca-4b15-ad19-4957e50c46a6/
URL:https://ausschreibungsradar.com/ausschreibung/657584f9-e8ca-4b15-ad19-4957e50c46a6/
END:VEVENT
BEGIN:VEVENT
UID:267ef63d1e029d15@ausschreibungsradar.com
DTSTAMP:20260424T133314Z
DTSTART;VALUE=DATE:20250728
DTEND;VALUE=DATE:20250728
SUMMARY:Zuschlag — Erweiterung Grundschule Großschwarzenlohe - Sanitär
DESCRIPTION:Phase: Zuschlag | Beschreibung: Vergabeergebnis — Auftrag wurde erteilt oder Verfahren beendet. | Link: https://ausschreibungsradar.com/ausschreibung/7fcdfebb-33d8-4ee1-b8d6-278edbcefd79/
URL:https://ausschreibungsradar.com/ausschreibung/7fcdfebb-33d8-4ee1-b8d6-278edbcefd79/
END:VEVENT
END:VCALENDAR
