BEGIN:VCALENDAR
VERSION:2.0
PRODID:-//AusschreibungsRadar//Timeline//DE
CALSCALE:GREGORIAN
METHOD:PUBLISH
X-WR-CALNAME:Projekt Sanierung der ehemaligen Gaststätten Lamm und Ochsen inkl. N
X-WR-TIMEZONE:Europe/Berlin
BEGIN:VEVENT
UID:68e276b50479519c@ausschreibungsradar.com
DTSTAMP:20260424T075025Z
DTSTART;VALUE=DATE:20240629
DTEND;VALUE=DATE:20240629
SUMMARY:Ausschreibung — Sanierung der ehemaligen Gaststätten Lamm und Ochsen inkl. N
DESCRIPTION:Phase: Ausschreibung | Beschreibung: Offizielle Ausschreibung mit Bieterfrist. | Link: https://ausschreibungsradar.com/ausschreibung/c60f6cd1-30c8-473f-8fdf-d77595a10622/
URL:https://ausschreibungsradar.com/ausschreibung/c60f6cd1-30c8-473f-8fdf-d77595a10622/
END:VEVENT
BEGIN:VEVENT
UID:f0b088df9eaecbc3@ausschreibungsradar.com
DTSTAMP:20260424T075025Z
DTSTART;VALUE=DATE:20240629
DTEND;VALUE=DATE:20240629
SUMMARY:Ausschreibung — Sanierung der ehemaligen Gaststätten Lamm und Ochsen inkl. N
DESCRIPTION:Phase: Ausschreibung | Beschreibung: Offizielle Ausschreibung mit Bieterfrist. | Link: https://ausschreibungsradar.com/ausschreibung/e9c1aee3-d048-4b03-b594-54e88b45a35d/
URL:https://ausschreibungsradar.com/ausschreibung/e9c1aee3-d048-4b03-b594-54e88b45a35d/
END:VEVENT
BEGIN:VEVENT
UID:ce99071f7ae3e040@ausschreibungsradar.com
DTSTAMP:20260424T075025Z
DTSTART;VALUE=DATE:20240629
DTEND;VALUE=DATE:20240629
SUMMARY:Ausschreibung — Sanierung der ehemaligen Gaststätten Lamm und Ochsen inkl. N
DESCRIPTION:Phase: Ausschreibung | Beschreibung: Offizielle Ausschreibung mit Bieterfrist. | Link: https://ausschreibungsradar.com/ausschreibung/297935ad-f462-47ec-a26a-34d891f74e6e/
URL:https://ausschreibungsradar.com/ausschreibung/297935ad-f462-47ec-a26a-34d891f74e6e/
END:VEVENT
BEGIN:VEVENT
UID:3fa8a7129069ca99@ausschreibungsradar.com
DTSTAMP:20260424T075025Z
DTSTART;VALUE=DATE:20240629
DTEND;VALUE=DATE:20240629
SUMMARY:Ausschreibung — Sanierung der ehemaligen Gaststätten Lamm und Ochsen inkl. N
DESCRIPTION:Phase: Ausschreibung | Beschreibung: Offizielle Ausschreibung mit Bieterfrist. | Link: https://ausschreibungsradar.com/ausschreibung/7c91d849-8c06-4262-b48d-1df337c38ae9/
URL:https://ausschreibungsradar.com/ausschreibung/7c91d849-8c06-4262-b48d-1df337c38ae9/
END:VEVENT
BEGIN:VEVENT
UID:d5e90a717659904e@ausschreibungsradar.com
DTSTAMP:20260424T075025Z
DTSTART;VALUE=DATE:20240629
DTEND;VALUE=DATE:20240629
SUMMARY:Ausschreibung — Sanierung der ehemaligen Gaststätten Lamm und Ochsen inkl. N
DESCRIPTION:Phase: Ausschreibung | Beschreibung: Offizielle Ausschreibung mit Bieterfrist. | Link: https://ausschreibungsradar.com/ausschreibung/79ff6a57-0714-40e9-8fa8-58053b0180dd/
URL:https://ausschreibungsradar.com/ausschreibung/79ff6a57-0714-40e9-8fa8-58053b0180dd/
END:VEVENT
BEGIN:VEVENT
UID:cfa648186d225cf1@ausschreibungsradar.com
DTSTAMP:20260424T075025Z
DTSTART;VALUE=DATE:20240629
DTEND;VALUE=DATE:20240629
SUMMARY:Ausschreibung — Sanierung der ehemaligen Gaststätten Lamm und Ochsen inkl. N
DESCRIPTION:Phase: Ausschreibung | Beschreibung: Offizielle Ausschreibung mit Bieterfrist. | Link: https://ausschreibungsradar.com/ausschreibung/ffa46ab1-e095-4a5d-b160-fe05dd5259e9/
URL:https://ausschreibungsradar.com/ausschreibung/ffa46ab1-e095-4a5d-b160-fe05dd5259e9/
END:VEVENT
END:VCALENDAR
