BEGIN:VCALENDAR
VERSION:2.0
PRODID:-//AusschreibungsRadar//Timeline//DE
CALSCALE:GREGORIAN
METHOD:PUBLISH
X-WR-CALNAME:Projekt 043-E-2408 Rahmenvereinbarung Servicezentrum für industriell
X-WR-TIMEZONE:Europe/Berlin
BEGIN:VEVENT
UID:0b0fcbc7dc182134@ausschreibungsradar.com
DTSTAMP:20260424T054910Z
DTSTART;VALUE=DATE:20241111
DTEND;VALUE=DATE:20241111
SUMMARY:Angebotsfrist — 043-E-2408 Rahmenvereinbarung Servicezentrum für industriell
DESCRIPTION:Phase: Ausschreibung | Beschreibung: Angebote werden eingeholt | Link: https://ausschreibungsradar.com/ausschreibung/c68c8d57-03cf-465e-9145-00e1287980b5/ | Geschätzter Wert: 8000000 €
URL:https://ausschreibungsradar.com/ausschreibung/c68c8d57-03cf-465e-9145-00e1287980b5/
END:VEVENT
BEGIN:VEVENT
UID:7afe832178bec6d5@ausschreibungsradar.com
DTSTAMP:20260424T054910Z
DTSTART;VALUE=DATE:20240916
DTEND;VALUE=DATE:20240916
SUMMARY:Ausschreibung — 043-E-2408 Rahmenvereinbarung Servicezentrum für industriell
DESCRIPTION:Phase: Ausschreibung | Beschreibung: Offizielle Ausschreibung mit Bieterfrist. | Link: https://ausschreibungsradar.com/ausschreibung/05aea408-0f81-4ad1-b0b9-8d1aaf5052a0/
URL:https://ausschreibungsradar.com/ausschreibung/05aea408-0f81-4ad1-b0b9-8d1aaf5052a0/
END:VEVENT
BEGIN:VEVENT
UID:7e5b78c777e96799@ausschreibungsradar.com
DTSTAMP:20260424T054910Z
DTSTART;VALUE=DATE:20240916
DTEND;VALUE=DATE:20240916
SUMMARY:Ausschreibung — 043-E-2408 Rahmenvereinbarung Servicezentrum für industriell
DESCRIPTION:Phase: Ausschreibung | Beschreibung: Offizielle Ausschreibung mit Bieterfrist. | Link: https://ausschreibungsradar.com/ausschreibung/70726716-feb4-4c5d-9541-b1ce392d508c/
URL:https://ausschreibungsradar.com/ausschreibung/70726716-feb4-4c5d-9541-b1ce392d508c/
END:VEVENT
END:VCALENDAR
