BEGIN:VCALENDAR
VERSION:2.0
PRODID:-//AusschreibungsRadar//Timeline//DE
CALSCALE:GREGORIAN
METHOD:PUBLISH
X-WR-CALNAME:Projekt Planmäßige Instandsetzung Einsatzgruppenversorger Kl. 702 FR
X-WR-TIMEZONE:Europe/Berlin
BEGIN:VEVENT
UID:03805e4e411d8a80@ausschreibungsradar.com
DTSTAMP:20260425T115343Z
DTSTART;VALUE=DATE:20251216
DTEND;VALUE=DATE:20251216
SUMMARY:Ausschreibung — Planmäßige Instandsetzung Einsatzgruppenversorger Kl. 702 FR
DESCRIPTION:Phase: Ausschreibung | Beschreibung: Angebote werden eingeholt | Link: https://ausschreibungsradar.com/ausschreibung/c6aba758-97f1-417f-a207-b7b917d3b251/
URL:https://ausschreibungsradar.com/ausschreibung/c6aba758-97f1-417f-a207-b7b917d3b251/
END:VEVENT
BEGIN:VEVENT
UID:0faa3378aac3dfcc@ausschreibungsradar.com
DTSTAMP:20260425T115343Z
DTSTART;VALUE=DATE:20251216
DTEND;VALUE=DATE:20251216
SUMMARY:Ausschreibung — Planmäßige Instandsetzung Einsatzgruppenversorger Kl. 702 FR
DESCRIPTION:Phase: Ausschreibung | Beschreibung: Offizielle Ausschreibung mit Bieterfrist. | Link: https://ausschreibungsradar.com/ausschreibung/1fec6e8c-802e-432d-89f5-38d7e3d3eac8/
URL:https://ausschreibungsradar.com/ausschreibung/1fec6e8c-802e-432d-89f5-38d7e3d3eac8/
END:VEVENT
BEGIN:VEVENT
UID:701f1ac722ebc962@ausschreibungsradar.com
DTSTAMP:20260425T115343Z
DTSTART;VALUE=DATE:20260107
DTEND;VALUE=DATE:20260107
SUMMARY:Ausschreibung — Planmäßige Instandsetzung Einsatzgruppenversorger Kl. 702 FR
DESCRIPTION:Phase: Ausschreibung | Beschreibung: Offizielle Ausschreibung mit Bieterfrist. | Link: https://ausschreibungsradar.com/ausschreibung/505d6298-ad47-4a4c-8373-9b04fb6d3d8b/
URL:https://ausschreibungsradar.com/ausschreibung/505d6298-ad47-4a4c-8373-9b04fb6d3d8b/
END:VEVENT
END:VCALENDAR
