BEGIN:VCALENDAR
VERSION:2.0
PRODID:-//AusschreibungsRadar//Timeline//DE
CALSCALE:GREGORIAN
METHOD:PUBLISH
X-WR-CALNAME:Projekt Beschaffung von vier baugleichen Löschgruppenfahrzeugen 10 (
X-WR-TIMEZONE:Europe/Berlin
BEGIN:VEVENT
UID:0d433c1138cca381@ausschreibungsradar.com
DTSTAMP:20260426T031029Z
DTSTART;VALUE=DATE:20260203
DTEND;VALUE=DATE:20260203
SUMMARY:Angebotsfrist — Beschaffung von vier baugleichen Löschgruppenfahrzeugen 10 (
DESCRIPTION:Phase: Ausschreibung | Beschreibung: Angebote werden eingeholt | Link: https://ausschreibungsradar.com/ausschreibung/c6ad8c72-cf1f-4b62-af8b-c732d1d019ad/
URL:https://ausschreibungsradar.com/ausschreibung/c6ad8c72-cf1f-4b62-af8b-c732d1d019ad/
END:VEVENT
BEGIN:VEVENT
UID:4b895fca2d306e31@ausschreibungsradar.com
DTSTAMP:20260426T031029Z
DTSTART;VALUE=DATE:20251126
DTEND;VALUE=DATE:20251126
SUMMARY:Ausschreibung — Beschaffung von vier baugleichen Löschgruppenfahrzeugen 10 (
DESCRIPTION:Phase: Ausschreibung | Beschreibung: Offizielle Ausschreibung mit Bieterfrist. | Link: https://ausschreibungsradar.com/ausschreibung/10236abb-4e5e-4dc1-b8fc-86de6fc2f4b7/
URL:https://ausschreibungsradar.com/ausschreibung/10236abb-4e5e-4dc1-b8fc-86de6fc2f4b7/
END:VEVENT
END:VCALENDAR
