BEGIN:VCALENDAR
VERSION:2.0
PRODID:-//AusschreibungsRadar//Timeline//DE
CALSCALE:GREGORIAN
METHOD:PUBLISH
X-WR-CALNAME:Projekt Putz- u. Stuckarbeiten ehem. Betriebsratsgebäude Schüttorf
X-WR-TIMEZONE:Europe/Berlin
BEGIN:VEVENT
UID:8bfbc19071d2d8b5@ausschreibungsradar.com
DTSTAMP:20260424T181454Z
DTSTART;VALUE=DATE:20251216
DTEND;VALUE=DATE:20251216
SUMMARY:Angebotsfrist — Putz- u. Stuckarbeiten ehem. Betriebsratsgebäude Schüttorf
DESCRIPTION:Phase: Ausschreibung | Beschreibung: Angebote werden eingeholt | Link: https://ausschreibungsradar.com/ausschreibung/c6cb1c6a-2ce6-4aad-8e0c-91eb8b48f70d/
URL:https://ausschreibungsradar.com/ausschreibung/c6cb1c6a-2ce6-4aad-8e0c-91eb8b48f70d/
END:VEVENT
END:VCALENDAR
