BEGIN:VCALENDAR
VERSION:2.0
PRODID:-//AusschreibungsRadar//Timeline//DE
CALSCALE:GREGORIAN
METHOD:PUBLISH
X-WR-CALNAME:Projekt 0
X-WR-TIMEZONE:Europe/Berlin
BEGIN:VEVENT
UID:0a6165b572682a7c@ausschreibungsradar.com
DTSTAMP:20260425T114354Z
DTSTART;VALUE=DATE:20240911
DTEND;VALUE=DATE:20240911
SUMMARY:Änderung — 0
DESCRIPTION:Phase: Änderung | Beschreibung: Nachtrag oder Korrektur zur Bekanntmachung. | Link: https://ausschreibungsradar.com/ausschreibung/22700892/
URL:https://ausschreibungsradar.com/ausschreibung/22700892/
END:VEVENT
BEGIN:VEVENT
UID:6913bb5b76ee5812@ausschreibungsradar.com
DTSTAMP:20260425T114354Z
DTSTART;VALUE=DATE:20241011
DTEND;VALUE=DATE:20241011
SUMMARY:Vertragsmodifikation — 0
DESCRIPTION:Phase: Vertragsmodifikation | Beschreibung: Änderung am bestehenden Vertrag nach Zuschlag. | Link: https://ausschreibungsradar.com/ausschreibung/c6e7765f-bd20-4cdb-a2af-cf3a99d40daf/
URL:https://ausschreibungsradar.com/ausschreibung/c6e7765f-bd20-4cdb-a2af-cf3a99d40daf/
END:VEVENT
BEGIN:VEVENT
UID:9b188f68055ad045@ausschreibungsradar.com
DTSTAMP:20260425T114354Z
DTSTART;VALUE=DATE:20241014
DTEND;VALUE=DATE:20241014
SUMMARY:Ausschreibung — 0
DESCRIPTION:Phase: Ausschreibung | Beschreibung: Offizielle Ausschreibung mit Bieterfrist. | Link: https://ausschreibungsradar.com/ausschreibung/22856964/
URL:https://ausschreibungsradar.com/ausschreibung/22856964/
END:VEVENT
BEGIN:VEVENT
UID:da306926ca2a7f77@ausschreibungsradar.com
DTSTAMP:20260425T114354Z
DTSTART;VALUE=DATE:20241106
DTEND;VALUE=DATE:20241106
SUMMARY:Zuschlag — 0
DESCRIPTION:Phase: Zuschlag | Beschreibung: Vergabeergebnis — Auftrag wurde erteilt oder Verfahren beendet. | Link: https://ausschreibungsradar.com/ausschreibung/22971932/
URL:https://ausschreibungsradar.com/ausschreibung/22971932/
END:VEVENT
END:VCALENDAR
