BEGIN:VCALENDAR
VERSION:2.0
PRODID:-//AusschreibungsRadar//Timeline//DE
CALSCALE:GREGORIAN
METHOD:PUBLISH
X-WR-CALNAME:Projekt Schlosserarbeiten Geländerkonstruktionen Innenelemente
X-WR-TIMEZONE:Europe/Berlin
BEGIN:VEVENT
UID:a8168df12cb0c900@ausschreibungsradar.com
DTSTAMP:20260424T004353Z
DTSTART;VALUE=DATE:20260119
DTEND;VALUE=DATE:20260119
SUMMARY:Angebotsfrist — Schlosserarbeiten Geländerkonstruktionen Innenelemente
DESCRIPTION:Phase: Ausschreibung | Beschreibung: Angebote werden eingeholt | Link: https://ausschreibungsradar.com/ausschreibung/c7429e2e-e4a0-4aa6-8bd6-81c8c58018e0/
URL:https://ausschreibungsradar.com/ausschreibung/c7429e2e-e4a0-4aa6-8bd6-81c8c58018e0/
END:VEVENT
END:VCALENDAR
