BEGIN:VCALENDAR
VERSION:2.0
PRODID:-//AusschreibungsRadar//Timeline//DE
CALSCALE:GREGORIAN
METHOD:PUBLISH
X-WR-CALNAME:Projekt Lieferung Möbel, Matratzen - Gemeinschaftsunterkünfte, Überg
X-WR-TIMEZONE:Europe/Berlin
BEGIN:VEVENT
UID:2365ac424796d45e@ausschreibungsradar.com
DTSTAMP:20260425T002421Z
DTSTART;VALUE=DATE:20260327
DTEND;VALUE=DATE:20260327
SUMMARY:Ausschreibung — Lieferung Möbel\, Matratzen - Gemeinschaftsunterkünfte\, Überg
DESCRIPTION:Phase: Ausschreibung | Beschreibung: Angebote werden eingeholt | Link: https://ausschreibungsradar.com/ausschreibung/c76fa656-7e58-48be-9e56-6292b1f1499e/
URL:https://ausschreibungsradar.com/ausschreibung/c76fa656-7e58-48be-9e56-6292b1f1499e/
END:VEVENT
BEGIN:VEVENT
UID:d519f8e67e9cf990@ausschreibungsradar.com
DTSTAMP:20260425T002421Z
DTSTART;VALUE=DATE:20260327
DTEND;VALUE=DATE:20260327
SUMMARY:Ausschreibung — Lieferung Möbel\, Matratzen - Gemeinschaftsunterkünfte\, Überg
DESCRIPTION:Phase: Ausschreibung | Beschreibung: Offizielle Ausschreibung mit Bieterfrist. | Link: https://ausschreibungsradar.com/ausschreibung/c1d82ca8-405d-4176-b9d6-f9702a60ab42/
URL:https://ausschreibungsradar.com/ausschreibung/c1d82ca8-405d-4176-b9d6-f9702a60ab42/
END:VEVENT
BEGIN:VEVENT
UID:c04af68ea6468946@ausschreibungsradar.com
DTSTAMP:20260425T002421Z
DTSTART;VALUE=DATE:20260327
DTEND;VALUE=DATE:20260327
SUMMARY:Ausschreibung — Lieferung Möbel\, Matratzen - Gemeinschaftsunterkünfte\, Überg
DESCRIPTION:Phase: Ausschreibung | Beschreibung: Offizielle Ausschreibung mit Bieterfrist. | Link: https://ausschreibungsradar.com/ausschreibung/f2ec3e4f-9ac6-49ac-8dc5-43d8c7e8f113/
URL:https://ausschreibungsradar.com/ausschreibung/f2ec3e4f-9ac6-49ac-8dc5-43d8c7e8f113/
END:VEVENT
BEGIN:VEVENT
UID:d0bc42aadde48f9d@ausschreibungsradar.com
DTSTAMP:20260425T002421Z
DTSTART;VALUE=DATE:20260327
DTEND;VALUE=DATE:20260327
SUMMARY:Ausschreibung — Lieferung Möbel\, Matratzen - Gemeinschaftsunterkünfte\, Überg
DESCRIPTION:Phase: Ausschreibung | Beschreibung: Offizielle Ausschreibung mit Bieterfrist. | Link: https://ausschreibungsradar.com/ausschreibung/abe86eb9-0dea-4a80-b0f0-1492a8d3d612/
URL:https://ausschreibungsradar.com/ausschreibung/abe86eb9-0dea-4a80-b0f0-1492a8d3d612/
END:VEVENT
BEGIN:VEVENT
UID:8b81bcf8dcd0c531@ausschreibungsradar.com
DTSTAMP:20260425T002421Z
DTSTART;VALUE=DATE:20260420
DTEND;VALUE=DATE:20260420
SUMMARY:Ausschreibung — Lieferung Möbel\, Matratzen - Gemeinschaftsunterkünfte\, Überg
DESCRIPTION:Phase: Ausschreibung | Beschreibung: Offizielle Ausschreibung mit Bieterfrist. | Link: https://ausschreibungsradar.com/ausschreibung/ted-267656-2026/
URL:https://ausschreibungsradar.com/ausschreibung/ted-267656-2026/
END:VEVENT
END:VCALENDAR
