BEGIN:VCALENDAR
VERSION:2.0
PRODID:-//AusschreibungsRadar//Timeline//DE
CALSCALE:GREGORIAN
METHOD:PUBLISH
X-WR-CALNAME:Projekt Seegrasabfuhr und -verwertung für Travemünde und den Priwall
X-WR-TIMEZONE:Europe/Berlin
BEGIN:VEVENT
UID:1fd0365dcc58b25e@ausschreibungsradar.com
DTSTAMP:20260425T213639Z
DTSTART;VALUE=DATE:20260318
DTEND;VALUE=DATE:20260318
SUMMARY:Ausschreibung — Seegrasabfuhr und -verwertung für Travemünde und den Priwall
DESCRIPTION:Phase: Ausschreibung | Beschreibung: Angebote werden eingeholt | Link: https://ausschreibungsradar.com/ausschreibung/68d92211-580a-47e3-8537-0c4ff1f71788/
URL:https://ausschreibungsradar.com/ausschreibung/68d92211-580a-47e3-8537-0c4ff1f71788/
END:VEVENT
BEGIN:VEVENT
UID:2327ef00bd3223da@ausschreibungsradar.com
DTSTAMP:20260425T213639Z
DTSTART;VALUE=DATE:20260421
DTEND;VALUE=DATE:20260421
SUMMARY:Vergabeergebnis — Seegrasabfuhr und -verwertung für Travemünde und den Priwall
DESCRIPTION:Phase: Vergabeergebnis | Beschreibung: Auftrag wurde zugeschlagen | Link: https://ausschreibungsradar.com/ausschreibung/c7cb6322-8857-4007-aad2-00c7cc7b63c1/
URL:https://ausschreibungsradar.com/ausschreibung/c7cb6322-8857-4007-aad2-00c7cc7b63c1/
END:VEVENT
END:VCALENDAR
