BEGIN:VCALENDAR
VERSION:2.0
PRODID:-//AusschreibungsRadar//Timeline//DE
CALSCALE:GREGORIAN
METHOD:PUBLISH
X-WR-CALNAME:Projekt OP-Exoskop Mund-, Kiefer- und Gesichtschirurgie inkl. Wartun
X-WR-TIMEZONE:Europe/Berlin
BEGIN:VEVENT
UID:9549ec899965cc65@ausschreibungsradar.com
DTSTAMP:20260424T155430Z
DTSTART;VALUE=DATE:20240711
DTEND;VALUE=DATE:20240711
SUMMARY:Angebotsfrist — OP-Exoskop Mund-\, Kiefer- und Gesichtschirurgie inkl. Wartun
DESCRIPTION:Phase: Ausschreibung | Beschreibung: Angebote werden eingeholt | Link: https://ausschreibungsradar.com/ausschreibung/04f84167-c0d9-4494-a410-5dd84949cf3e/
URL:https://ausschreibungsradar.com/ausschreibung/04f84167-c0d9-4494-a410-5dd84949cf3e/
END:VEVENT
BEGIN:VEVENT
UID:86cdc12d0449e373@ausschreibungsradar.com
DTSTAMP:20260424T155430Z
DTSTART;VALUE=DATE:20240610
DTEND;VALUE=DATE:20240610
SUMMARY:Ausschreibung — OP-Exoskop Mund-\, Kiefer- und Gesichtschirurgie inkl. Wartun
DESCRIPTION:Phase: Ausschreibung | Beschreibung: Offizielle Ausschreibung mit Bieterfrist. | Link: https://ausschreibungsradar.com/ausschreibung/cb8b3c77-054a-42bc-ae86-eb8b3286b799/
URL:https://ausschreibungsradar.com/ausschreibung/cb8b3c77-054a-42bc-ae86-eb8b3286b799/
END:VEVENT
BEGIN:VEVENT
UID:a5b3d77ca62730bf@ausschreibungsradar.com
DTSTAMP:20260424T155430Z
DTSTART;VALUE=DATE:20240610
DTEND;VALUE=DATE:20240610
SUMMARY:Ausschreibung — OP-Exoskop Mund-\, Kiefer- und Gesichtschirurgie inkl. Wartun
DESCRIPTION:Phase: Ausschreibung | Beschreibung: Offizielle Ausschreibung mit Bieterfrist. | Link: https://ausschreibungsradar.com/ausschreibung/85df86a4-ae7e-4896-8fec-86a29bafbc8f/
URL:https://ausschreibungsradar.com/ausschreibung/85df86a4-ae7e-4896-8fec-86a29bafbc8f/
END:VEVENT
BEGIN:VEVENT
UID:b9bb262d417f5e89@ausschreibungsradar.com
DTSTAMP:20260424T155430Z
DTSTART;VALUE=DATE:20240829
DTEND;VALUE=DATE:20240829
SUMMARY:Vergabeergebnis — OP-Exoskop Mund-\, Kiefer- und Gesichtschirurgie inkl. Wartun
DESCRIPTION:Phase: Vergabeergebnis | Beschreibung: Auftrag wurde zugeschlagen | Link: https://ausschreibungsradar.com/ausschreibung/c82f78ee-5794-48ed-8436-352da7003a1a/
URL:https://ausschreibungsradar.com/ausschreibung/c82f78ee-5794-48ed-8436-352da7003a1a/
END:VEVENT
END:VCALENDAR
