BEGIN:VCALENDAR
VERSION:2.0
PRODID:-//AusschreibungsRadar//Timeline//DE
CALSCALE:GREGORIAN
METHOD:PUBLISH
X-WR-CALNAME:Projekt Wäschereileistung Städtische Rehakliniken
X-WR-TIMEZONE:Europe/Berlin
BEGIN:VEVENT
UID:2d49ee84e149bef1@ausschreibungsradar.com
DTSTAMP:20260426T021056Z
DTSTART;VALUE=DATE:20251219
DTEND;VALUE=DATE:20251219
SUMMARY:Ausschreibung — Wäschereileistung Städtische Rehakliniken
DESCRIPTION:Phase: Ausschreibung | Beschreibung: Angebote werden eingeholt | Link: https://ausschreibungsradar.com/ausschreibung/8e15c371-30b8-4dc6-af6f-434ca7c41c58/
URL:https://ausschreibungsradar.com/ausschreibung/8e15c371-30b8-4dc6-af6f-434ca7c41c58/
END:VEVENT
BEGIN:VEVENT
UID:0e9dfe35105888be@ausschreibungsradar.com
DTSTAMP:20260426T021056Z
DTSTART;VALUE=DATE:20260302
DTEND;VALUE=DATE:20260302
SUMMARY:Vergabeergebnis — Wäschereileistung Städtische Rehakliniken
DESCRIPTION:Phase: Vergabeergebnis | Beschreibung: Auftrag wurde zugeschlagen | Link: https://ausschreibungsradar.com/ausschreibung/c84952a5-fabc-4e54-bc3c-82c27c97efb0/
URL:https://ausschreibungsradar.com/ausschreibung/c84952a5-fabc-4e54-bc3c-82c27c97efb0/
END:VEVENT
END:VCALENDAR
