BEGIN:VCALENDAR
VERSION:2.0
PRODID:-//AusschreibungsRadar//Timeline//DE
CALSCALE:GREGORIAN
METHOD:PUBLISH
X-WR-CALNAME:Projekt Unterhalts- sowie Glas- und Rahmenreinigung für das Bayr. La
X-WR-TIMEZONE:Europe/Berlin
BEGIN:VEVENT
UID:7357663ae2dc76f4@ausschreibungsradar.com
DTSTAMP:20260424T124546Z
DTSTART;VALUE=DATE:20240802
DTEND;VALUE=DATE:20240802
SUMMARY:Ausschreibung — Unterhalts- sowie Glas- und Rahmenreinigung für das Bayr. La
DESCRIPTION:Phase: Ausschreibung | Beschreibung: Angebote werden eingeholt | Link: https://ausschreibungsradar.com/ausschreibung/c86e3559-d97d-479e-abce-88f30b64c7b7/
URL:https://ausschreibungsradar.com/ausschreibung/c86e3559-d97d-479e-abce-88f30b64c7b7/
END:VEVENT
BEGIN:VEVENT
UID:ea8d48b06d62a305@ausschreibungsradar.com
DTSTAMP:20260424T124546Z
DTSTART;VALUE=DATE:20240802
DTEND;VALUE=DATE:20240802
SUMMARY:Ausschreibung — Unterhalts- sowie Glas- und Rahmenreinigung für das Bayr. La
DESCRIPTION:Phase: Ausschreibung | Beschreibung: Offizielle Ausschreibung mit Bieterfrist. | Link: https://ausschreibungsradar.com/ausschreibung/166d195d-f0ec-4fbe-b414-19ab80501ba0/
URL:https://ausschreibungsradar.com/ausschreibung/166d195d-f0ec-4fbe-b414-19ab80501ba0/
END:VEVENT
BEGIN:VEVENT
UID:be719d83583dd8a3@ausschreibungsradar.com
DTSTAMP:20260424T124546Z
DTSTART;VALUE=DATE:20241111
DTEND;VALUE=DATE:20241111
SUMMARY:Vergabeergebnis — Unterhalts- sowie Glas- und Rahmenreinigung für das Bayr. La
DESCRIPTION:Phase: Vergabeergebnis | Beschreibung: Sonstige Gründe | Link: https://ausschreibungsradar.com/ausschreibung/a81cb196-686b-423f-a062-d442d54c40dd/
URL:https://ausschreibungsradar.com/ausschreibung/a81cb196-686b-423f-a062-d442d54c40dd/
END:VEVENT
END:VCALENDAR
