BEGIN:VCALENDAR
VERSION:2.0
PRODID:-//AusschreibungsRadar//Timeline//DE
CALSCALE:GREGORIAN
METHOD:PUBLISH
X-WR-CALNAME:Projekt Generalsanierung und Erweiterung des Gistlsaals mit Instands
X-WR-TIMEZONE:Europe/Berlin
BEGIN:VEVENT
UID:1ffb1b6bde7cb894@ausschreibungsradar.com
DTSTAMP:20260424T090831Z
DTSTART;VALUE=DATE:20251001
DTEND;VALUE=DATE:20251001
SUMMARY:Ausschreibung — Generalsanierung und Erweiterung des Gistlsaals mit Instands
DESCRIPTION:Phase: Ausschreibung | Beschreibung: Offizielle Ausschreibung mit Bieterfrist. | Link: https://ausschreibungsradar.com/ausschreibung/ted-642227-2025/
URL:https://ausschreibungsradar.com/ausschreibung/ted-642227-2025/
END:VEVENT
BEGIN:VEVENT
UID:afb1ddf57fe29036@ausschreibungsradar.com
DTSTAMP:20260424T090831Z
DTSTART;VALUE=DATE:20251125
DTEND;VALUE=DATE:20251125
SUMMARY:Angebotsfrist — Generalsanierung und Erweiterung des Gistlsaals mit Instands
DESCRIPTION:Phase: Ausschreibung | Beschreibung: Angebote werden eingeholt | Link: https://ausschreibungsradar.com/ausschreibung/c89dcc3b-4d91-4eee-b10f-dd0ef33dc3bf/
URL:https://ausschreibungsradar.com/ausschreibung/c89dcc3b-4d91-4eee-b10f-dd0ef33dc3bf/
END:VEVENT
BEGIN:VEVENT
UID:60a21826acfbead4@ausschreibungsradar.com
DTSTAMP:20260424T090831Z
DTSTART;VALUE=DATE:20251028
DTEND;VALUE=DATE:20251028
SUMMARY:Ausschreibung — Generalsanierung und Erweiterung des Gistlsaals mit Instands
DESCRIPTION:Phase: Ausschreibung | Beschreibung: Offizielle Ausschreibung mit Bieterfrist. | Link: https://ausschreibungsradar.com/ausschreibung/3b16b19c-f9ed-4d21-a524-ce62ef7398e3/
URL:https://ausschreibungsradar.com/ausschreibung/3b16b19c-f9ed-4d21-a524-ce62ef7398e3/
END:VEVENT
BEGIN:VEVENT
UID:845cc28a7d091f02@ausschreibungsradar.com
DTSTAMP:20260424T090831Z
DTSTART;VALUE=DATE:20251028
DTEND;VALUE=DATE:20251028
SUMMARY:Ausschreibung — Generalsanierung und Erweiterung des Gistlsaals mit Instands
DESCRIPTION:Phase: Ausschreibung | Beschreibung: Offizielle Ausschreibung mit Bieterfrist. | Link: https://ausschreibungsradar.com/ausschreibung/7e9f2665-c60b-4b40-8773-540c9c0e1896/
URL:https://ausschreibungsradar.com/ausschreibung/7e9f2665-c60b-4b40-8773-540c9c0e1896/
END:VEVENT
BEGIN:VEVENT
UID:ea51a0d7bd6c3860@ausschreibungsradar.com
DTSTAMP:20260424T090831Z
DTSTART;VALUE=DATE:20251028
DTEND;VALUE=DATE:20251028
SUMMARY:Ausschreibung — Generalsanierung und Erweiterung des Gistlsaals mit Instands
DESCRIPTION:Phase: Ausschreibung | Beschreibung: Offizielle Ausschreibung mit Bieterfrist. | Link: https://ausschreibungsradar.com/ausschreibung/4cf1fd70-4286-4a5a-b62e-efc3e5902f3c/
URL:https://ausschreibungsradar.com/ausschreibung/4cf1fd70-4286-4a5a-b62e-efc3e5902f3c/
END:VEVENT
BEGIN:VEVENT
UID:e0f1a36fb71e9900@ausschreibungsradar.com
DTSTAMP:20260424T090831Z
DTSTART;VALUE=DATE:20251028
DTEND;VALUE=DATE:20251028
SUMMARY:Ausschreibung — Generalsanierung und Erweiterung des Gistlsaals mit Instands
DESCRIPTION:Phase: Ausschreibung | Beschreibung: Offizielle Ausschreibung mit Bieterfrist. | Link: https://ausschreibungsradar.com/ausschreibung/379e9e56-42e0-425e-98c6-0cbf09d5a6fc/
URL:https://ausschreibungsradar.com/ausschreibung/379e9e56-42e0-425e-98c6-0cbf09d5a6fc/
END:VEVENT
END:VCALENDAR
