BEGIN:VCALENDAR
VERSION:2.0
PRODID:-//AusschreibungsRadar//Timeline//DE
CALSCALE:GREGORIAN
METHOD:PUBLISH
X-WR-CALNAME:Projekt Gebäudereinigung UR und GLR
X-WR-TIMEZONE:Europe/Berlin
BEGIN:VEVENT
UID:a148b6df26af537e@ausschreibungsradar.com
DTSTAMP:20260424T144838Z
DTSTART;VALUE=DATE:20241009
DTEND;VALUE=DATE:20241009
SUMMARY:Angebotsfrist — Gebäudereinigung UR und GLR
DESCRIPTION:Phase: Ausschreibung | Beschreibung: Angebote werden eingeholt | Link: https://ausschreibungsradar.com/ausschreibung/a1059618-d551-48cd-b82b-1c2f740dcbc3/ | Geschätzter Wert: 1 €
URL:https://ausschreibungsradar.com/ausschreibung/a1059618-d551-48cd-b82b-1c2f740dcbc3/
END:VEVENT
BEGIN:VEVENT
UID:ad986192b7edb4f4@ausschreibungsradar.com
DTSTAMP:20260424T144838Z
DTSTART;VALUE=DATE:20250128
DTEND;VALUE=DATE:20250128
SUMMARY:Vergabeergebnis — Gebäudereinigung UR und GLR
DESCRIPTION:Phase: Vergabeergebnis | Beschreibung: Auftrag wurde zugeschlagen | Link: https://ausschreibungsradar.com/ausschreibung/c8c138e6-5ea9-4629-845a-45b84a28f66b/ | Geschätzter Wert: 1 €
URL:https://ausschreibungsradar.com/ausschreibung/c8c138e6-5ea9-4629-845a-45b84a28f66b/
END:VEVENT
END:VCALENDAR
