BEGIN:VCALENDAR
VERSION:2.0
PRODID:-//AusschreibungsRadar//Timeline//DE
CALSCALE:GREGORIAN
METHOD:PUBLISH
X-WR-CALNAME:Projekt Neubau Sport-Kita Adendorf - Fliesenarbeiten
X-WR-TIMEZONE:Europe/Berlin
BEGIN:VEVENT
UID:235b47a3abf5392c@ausschreibungsradar.com
DTSTAMP:20260425T023921Z
DTSTART;VALUE=DATE:20250325
DTEND;VALUE=DATE:20250325
SUMMARY:Angebotsfrist — Neubau Sport-Kita Adendorf - Fliesenarbeiten
DESCRIPTION:Phase: Ausschreibung | Beschreibung: Angebote werden eingeholt | Link: https://ausschreibungsradar.com/ausschreibung/c94a29f1-b575-4675-99a8-87be064b2c03/
URL:https://ausschreibungsradar.com/ausschreibung/c94a29f1-b575-4675-99a8-87be064b2c03/
END:VEVENT
BEGIN:VEVENT
UID:8c5528a6e12e6ee0@ausschreibungsradar.com
DTSTAMP:20260425T023921Z
DTSTART;VALUE=DATE:20250420
DTEND;VALUE=DATE:20250420
SUMMARY:Vergabeergebnis — Neubau Sport-Kita Adendorf - Fliesenarbeiten
DESCRIPTION:Phase: Vergabeergebnis | Beschreibung: Auftrag wurde zugeschlagen | Link: https://ausschreibungsradar.com/ausschreibung/040fd081-c1fb-448b-84db-98d6287d9fd5/ | Auftragnehmer: Fliesen Röhlich GmbH
URL:https://ausschreibungsradar.com/ausschreibung/040fd081-c1fb-448b-84db-98d6287d9fd5/
END:VEVENT
END:VCALENDAR
