BEGIN:VCALENDAR
VERSION:2.0
PRODID:-//AusschreibungsRadar//Timeline//DE
CALSCALE:GREGORIAN
METHOD:PUBLISH
X-WR-CALNAME:Projekt GI - Lieferung von 3 Pritschenfahrzeugen und 1 Geländewagen
X-WR-TIMEZONE:Europe/Berlin
BEGIN:VEVENT
UID:494184fba4af2dea@ausschreibungsradar.com
DTSTAMP:20260425T184719Z
DTSTART;VALUE=DATE:20260309
DTEND;VALUE=DATE:20260309
SUMMARY:Ausschreibung — GI - Lieferung von 3 Pritschenfahrzeugen und 1 Geländewagen
DESCRIPTION:Phase: Ausschreibung | Beschreibung: Angebote werden eingeholt | Link: https://ausschreibungsradar.com/ausschreibung/c96a1da2-3a61-4934-9cfb-47accc389546/
URL:https://ausschreibungsradar.com/ausschreibung/c96a1da2-3a61-4934-9cfb-47accc389546/
END:VEVENT
BEGIN:VEVENT
UID:6f65b500478dade6@ausschreibungsradar.com
DTSTAMP:20260425T184719Z
DTSTART;VALUE=DATE:20260309
DTEND;VALUE=DATE:20260309
SUMMARY:Ausschreibung — GI - Lieferung von 3 Pritschenfahrzeugen und 1 Geländewagen
DESCRIPTION:Phase: Ausschreibung | Beschreibung: Offizielle Ausschreibung mit Bieterfrist. | Link: https://ausschreibungsradar.com/ausschreibung/7df244bf-fc79-4b96-8ace-5114e17b8d13/
URL:https://ausschreibungsradar.com/ausschreibung/7df244bf-fc79-4b96-8ace-5114e17b8d13/
END:VEVENT
END:VCALENDAR
