BEGIN:VCALENDAR
VERSION:2.0
PRODID:-//AusschreibungsRadar//Timeline//DE
CALSCALE:GREGORIAN
METHOD:PUBLISH
X-WR-CALNAME:Projekt Vergabebekanntmachung - Starkstromanlagen gem. DIN 18382 für
X-WR-TIMEZONE:Europe/Berlin
BEGIN:VEVENT
UID:bfc1cbe9ff05d27a@ausschreibungsradar.com
DTSTAMP:20260425T193939Z
DTSTART;VALUE=DATE:20250917
DTEND;VALUE=DATE:20250917
SUMMARY:Angebotsfrist — Vergabebekanntmachung - Starkstromanlagen gem. DIN 18382 für
DESCRIPTION:Phase: Ausschreibung | Beschreibung: Angebote werden eingeholt | Link: https://ausschreibungsradar.com/ausschreibung/e188d39a-566e-4d94-8c89-4d40145223a7/
URL:https://ausschreibungsradar.com/ausschreibung/e188d39a-566e-4d94-8c89-4d40145223a7/
END:VEVENT
BEGIN:VEVENT
UID:c4f3b2123eb0b13b@ausschreibungsradar.com
DTSTAMP:20260425T193939Z
DTSTART;VALUE=DATE:20250728
DTEND;VALUE=DATE:20250728
SUMMARY:Ausschreibung — Vergabebekanntmachung - Starkstromanlagen gem. DIN 18382 für
DESCRIPTION:Phase: Ausschreibung | Beschreibung: Offizielle Ausschreibung mit Bieterfrist. | Link: https://ausschreibungsradar.com/ausschreibung/45d94249-5540-43c4-9cc2-e0661cc5c863/
URL:https://ausschreibungsradar.com/ausschreibung/45d94249-5540-43c4-9cc2-e0661cc5c863/
END:VEVENT
BEGIN:VEVENT
UID:57a4d9a578ffabc2@ausschreibungsradar.com
DTSTAMP:20260425T193939Z
DTSTART;VALUE=DATE:20250728
DTEND;VALUE=DATE:20250728
SUMMARY:Ausschreibung — Vergabebekanntmachung - Starkstromanlagen gem. DIN 18382 für
DESCRIPTION:Phase: Ausschreibung | Beschreibung: Offizielle Ausschreibung mit Bieterfrist. | Link: https://ausschreibungsradar.com/ausschreibung/6281c6d8-3806-4f39-b5ee-272e967ffc94/
URL:https://ausschreibungsradar.com/ausschreibung/6281c6d8-3806-4f39-b5ee-272e967ffc94/
END:VEVENT
BEGIN:VEVENT
UID:bb805bd16552336d@ausschreibungsradar.com
DTSTAMP:20260425T193939Z
DTSTART;VALUE=DATE:20251110
DTEND;VALUE=DATE:20251110
SUMMARY:Vergabeergebnis — Vergabebekanntmachung - Starkstromanlagen gem. DIN 18382 für
DESCRIPTION:Phase: Vergabeergebnis | Beschreibung: Auftrag wurde zugeschlagen | Link: https://ausschreibungsradar.com/ausschreibung/c9ff622a-a1b4-46af-b1c9-9f955e9510b0/ | Geschätzter Wert: 3200000 €
URL:https://ausschreibungsradar.com/ausschreibung/c9ff622a-a1b4-46af-b1c9-9f955e9510b0/
END:VEVENT
END:VCALENDAR
