BEGIN:VCALENDAR
VERSION:2.0
PRODID:-//AusschreibungsRadar//Timeline//DE
CALSCALE:GREGORIAN
METHOD:PUBLISH
X-WR-CALNAME:Projekt Pfingstweideschule Landschaftsbauarbeiten
X-WR-TIMEZONE:Europe/Berlin
BEGIN:VEVENT
UID:0b4998d991101c9b@ausschreibungsradar.com
DTSTAMP:20260425T012303Z
DTSTART;VALUE=DATE:20251023
DTEND;VALUE=DATE:20251023
SUMMARY:Angebotsfrist — Pfingstweideschule Landschaftsbauarbeiten
DESCRIPTION:Phase: Ausschreibung | Beschreibung: Angebote werden eingeholt | Link: https://ausschreibungsradar.com/ausschreibung/85fa6bcb-60f4-46d8-908d-b4eda3c01159/
URL:https://ausschreibungsradar.com/ausschreibung/85fa6bcb-60f4-46d8-908d-b4eda3c01159/
END:VEVENT
BEGIN:VEVENT
UID:a8d4f4b9dadc212b@ausschreibungsradar.com
DTSTAMP:20260425T012303Z
DTSTART;VALUE=DATE:20251222
DTEND;VALUE=DATE:20251222
SUMMARY:Vergabeergebnis — Pfingstweideschule Landschaftsbauarbeiten
DESCRIPTION:Phase: Vergabeergebnis | Beschreibung: Auftrag wurde zugeschlagen | Link: https://ausschreibungsradar.com/ausschreibung/ca053703-5335-41f9-957d-0e0d2b4c1586/
URL:https://ausschreibungsradar.com/ausschreibung/ca053703-5335-41f9-957d-0e0d2b4c1586/
END:VEVENT
END:VCALENDAR
