BEGIN:VCALENDAR
VERSION:2.0
PRODID:-//AusschreibungsRadar//Timeline//DE
CALSCALE:GREGORIAN
METHOD:PUBLISH
X-WR-CALNAME:Projekt REZ SW 45ind JC Landkreis Reutlingen
X-WR-TIMEZONE:Europe/Berlin
BEGIN:VEVENT
UID:26a9f39d254ba569@ausschreibungsradar.com
DTSTAMP:20260424T125852Z
DTSTART;VALUE=DATE:20260218
DTEND;VALUE=DATE:20260218
SUMMARY:Ausschreibung — REZ SW 45ind JC Landkreis Reutlingen
DESCRIPTION:Phase: Ausschreibung | Beschreibung: Angebote werden eingeholt | Link: https://ausschreibungsradar.com/ausschreibung/ca228363-8f9b-4840-852a-b7e7f54caa26/
URL:https://ausschreibungsradar.com/ausschreibung/ca228363-8f9b-4840-852a-b7e7f54caa26/
END:VEVENT
BEGIN:VEVENT
UID:2c7f7dd3ddffb457@ausschreibungsradar.com
DTSTAMP:20260424T125852Z
DTSTART;VALUE=DATE:20260218
DTEND;VALUE=DATE:20260218
SUMMARY:Ausschreibung — REZ SW 45ind JC Landkreis Reutlingen
DESCRIPTION:Phase: Ausschreibung | Beschreibung: Offizielle Ausschreibung mit Bieterfrist. | Link: https://ausschreibungsradar.com/ausschreibung/c6fbfa31-6d86-4aef-aa47-b0ad19d299c2/
URL:https://ausschreibungsradar.com/ausschreibung/c6fbfa31-6d86-4aef-aa47-b0ad19d299c2/
END:VEVENT
BEGIN:VEVENT
UID:15e358f0f32fdb90@ausschreibungsradar.com
DTSTAMP:20260424T125852Z
DTSTART;VALUE=DATE:20260310
DTEND;VALUE=DATE:20260310
SUMMARY:Zuschlag — REZ SW 45ind JC Landkreis Reutlingen
DESCRIPTION:Phase: Zuschlag | Beschreibung: Vergabeergebnis — Auftrag wurde erteilt oder Verfahren beendet. | Link: https://ausschreibungsradar.com/ausschreibung/626883da-edc5-4b04-8a14-a810017888e2/
URL:https://ausschreibungsradar.com/ausschreibung/626883da-edc5-4b04-8a14-a810017888e2/
END:VEVENT
END:VCALENDAR
