BEGIN:VCALENDAR
VERSION:2.0
PRODID:-//AusschreibungsRadar//Timeline//DE
CALSCALE:GREGORIAN
METHOD:PUBLISH
X-WR-CALNAME:Projekt Projektsteuerungsleistung für den Neubau des Anwärterwohnhei
X-WR-TIMEZONE:Europe/Berlin
BEGIN:VEVENT
UID:523a41914d0c4485@ausschreibungsradar.com
DTSTAMP:20260425T132046Z
DTSTART;VALUE=DATE:20250911
DTEND;VALUE=DATE:20250911
SUMMARY:Ausschreibung — Projektsteuerungsleistung für den Neubau des Anwärterwohnhei
DESCRIPTION:Phase: Ausschreibung | Beschreibung: Angebote werden eingeholt | Link: https://ausschreibungsradar.com/ausschreibung/ca574d34-afac-407c-b019-41187769d7ef/
URL:https://ausschreibungsradar.com/ausschreibung/ca574d34-afac-407c-b019-41187769d7ef/
END:VEVENT
BEGIN:VEVENT
UID:80bb7934238da298@ausschreibungsradar.com
DTSTAMP:20260425T132046Z
DTSTART;VALUE=DATE:20250911
DTEND;VALUE=DATE:20250911
SUMMARY:Ausschreibung — Projektsteuerungsleistung für den Neubau des Anwärterwohnhei
DESCRIPTION:Phase: Ausschreibung | Beschreibung: Offizielle Ausschreibung mit Bieterfrist. | Link: https://ausschreibungsradar.com/ausschreibung/418765d7-b4d8-40b9-8c1c-b1c052a61801/
URL:https://ausschreibungsradar.com/ausschreibung/418765d7-b4d8-40b9-8c1c-b1c052a61801/
END:VEVENT
BEGIN:VEVENT
UID:6e57c81c02e1e80d@ausschreibungsradar.com
DTSTAMP:20260425T132046Z
DTSTART;VALUE=DATE:20250911
DTEND;VALUE=DATE:20250911
SUMMARY:Ausschreibung — Projektsteuerungsleistung für den Neubau des Anwärterwohnhei
DESCRIPTION:Phase: Ausschreibung | Beschreibung: Offizielle Ausschreibung mit Bieterfrist. | Link: https://ausschreibungsradar.com/ausschreibung/608af209-53cc-4085-9584-b5a093670a4e/
URL:https://ausschreibungsradar.com/ausschreibung/608af209-53cc-4085-9584-b5a093670a4e/
END:VEVENT
END:VCALENDAR
