BEGIN:VCALENDAR
VERSION:2.0
PRODID:-//AusschreibungsRadar//Timeline//DE
CALSCALE:GREGORIAN
METHOD:PUBLISH
X-WR-CALNAME:Projekt Reinigung Sachsen - Bereich Dresden (25/FI-AD/2025)
X-WR-TIMEZONE:Europe/Berlin
BEGIN:VEVENT
UID:7fb1a24fe6a893c1@ausschreibungsradar.com
DTSTAMP:20260424T105436Z
DTSTART;VALUE=DATE:20251107
DTEND;VALUE=DATE:20251107
SUMMARY:Angebotsfrist — Reinigung Sachsen - Bereich Dresden (25/FI-AD/2025)
DESCRIPTION:Phase: Ausschreibung | Beschreibung: Angebote werden eingeholt | Link: https://ausschreibungsradar.com/ausschreibung/194e7c5e-0b54-4ee3-acb5-f18c64dac83b/
URL:https://ausschreibungsradar.com/ausschreibung/194e7c5e-0b54-4ee3-acb5-f18c64dac83b/
END:VEVENT
BEGIN:VEVENT
UID:369c7cf7cccfa289@ausschreibungsradar.com
DTSTAMP:20260424T105436Z
DTSTART;VALUE=DATE:20260107
DTEND;VALUE=DATE:20260107
SUMMARY:Vergabeergebnis — Reinigung Sachsen - Bereich Dresden (25/FI-AD/2025)
DESCRIPTION:Phase: Vergabeergebnis | Beschreibung: Auftrag wurde zugeschlagen | Link: https://ausschreibungsradar.com/ausschreibung/cabe9ca0-ed85-4c41-acfd-dab2a908b39c/
URL:https://ausschreibungsradar.com/ausschreibung/cabe9ca0-ed85-4c41-acfd-dab2a908b39c/
END:VEVENT
END:VCALENDAR
