BEGIN:VCALENDAR
VERSION:2.0
PRODID:-//AusschreibungsRadar//Timeline//DE
CALSCALE:GREGORIAN
METHOD:PUBLISH
X-WR-CALNAME:Projekt Umbau und Sanierung eines Gastronomiebetriebes („Waldidyll“)
X-WR-TIMEZONE:Europe/Berlin
BEGIN:VEVENT
UID:04f734777d665f0a@ausschreibungsradar.com
DTSTAMP:20260424T091224Z
DTSTART;VALUE=DATE:20250416
DTEND;VALUE=DATE:20250416
SUMMARY:Ausschreibung — Umbau und Sanierung eines Gastronomiebetriebes („Waldidyll“)
DESCRIPTION:Phase: Ausschreibung | Beschreibung: Offizielle Ausschreibung mit Bieterfrist. | Link: https://ausschreibungsradar.com/ausschreibung/cae98ee3-1919-4dcd-b88e-9f427216c6d9/
URL:https://ausschreibungsradar.com/ausschreibung/cae98ee3-1919-4dcd-b88e-9f427216c6d9/
END:VEVENT
BEGIN:VEVENT
UID:ad13c9c2721d6d37@ausschreibungsradar.com
DTSTAMP:20260424T091224Z
DTSTART;VALUE=DATE:20250416
DTEND;VALUE=DATE:20250416
SUMMARY:Ausschreibung — Umbau und Sanierung eines Gastronomiebetriebes („Waldidyll“)
DESCRIPTION:Phase: Ausschreibung | Beschreibung: Offizielle Ausschreibung mit Bieterfrist. | Link: https://ausschreibungsradar.com/ausschreibung/5ecc8f27-fe5e-4979-a288-3bdae14f5a64/
URL:https://ausschreibungsradar.com/ausschreibung/5ecc8f27-fe5e-4979-a288-3bdae14f5a64/
END:VEVENT
BEGIN:VEVENT
UID:2dda98f6fb7d048b@ausschreibungsradar.com
DTSTAMP:20260424T091224Z
DTSTART;VALUE=DATE:20250416
DTEND;VALUE=DATE:20250416
SUMMARY:Ausschreibung — Umbau und Sanierung eines Gastronomiebetriebes („Waldidyll“)
DESCRIPTION:Phase: Ausschreibung | Beschreibung: Offizielle Ausschreibung mit Bieterfrist. | Link: https://ausschreibungsradar.com/ausschreibung/660987e6-2767-4966-8ff2-5be629824186/
URL:https://ausschreibungsradar.com/ausschreibung/660987e6-2767-4966-8ff2-5be629824186/
END:VEVENT
BEGIN:VEVENT
UID:feb2b2374eec53c2@ausschreibungsradar.com
DTSTAMP:20260424T091224Z
DTSTART;VALUE=DATE:20250416
DTEND;VALUE=DATE:20250416
SUMMARY:Ausschreibung — Umbau und Sanierung eines Gastronomiebetriebes („Waldidyll“)
DESCRIPTION:Phase: Ausschreibung | Beschreibung: Offizielle Ausschreibung mit Bieterfrist. | Link: https://ausschreibungsradar.com/ausschreibung/7d36ffe5-3914-4e16-8412-fa7f458da944/
URL:https://ausschreibungsradar.com/ausschreibung/7d36ffe5-3914-4e16-8412-fa7f458da944/
END:VEVENT
BEGIN:VEVENT
UID:58a366b3a03765ed@ausschreibungsradar.com
DTSTAMP:20260424T091224Z
DTSTART;VALUE=DATE:20250416
DTEND;VALUE=DATE:20250416
SUMMARY:Ausschreibung — Umbau und Sanierung eines Gastronomiebetriebes („Waldidyll“)
DESCRIPTION:Phase: Ausschreibung | Beschreibung: Offizielle Ausschreibung mit Bieterfrist. | Link: https://ausschreibungsradar.com/ausschreibung/260c26a5-ada0-4d41-b5c2-77df385477f7/
URL:https://ausschreibungsradar.com/ausschreibung/260c26a5-ada0-4d41-b5c2-77df385477f7/
END:VEVENT
END:VCALENDAR
