BEGIN:VCALENDAR
VERSION:2.0
PRODID:-//AusschreibungsRadar//Timeline//DE
CALSCALE:GREGORIAN
METHOD:PUBLISH
X-WR-CALNAME:Projekt Beschaffung eines Netzwerkmanagement Tools
X-WR-TIMEZONE:Europe/Berlin
BEGIN:VEVENT
UID:ad2abc88a8546c31@ausschreibungsradar.com
DTSTAMP:20260424T143822Z
DTSTART;VALUE=DATE:20260320
DTEND;VALUE=DATE:20260320
SUMMARY:Ausschreibung — Beschaffung eines Netzwerkmanagement Tools
DESCRIPTION:Phase: Ausschreibung | Beschreibung: Angebote werden eingeholt | Link: https://ausschreibungsradar.com/ausschreibung/cb272992-c334-42e3-a07f-52889d1bed97/
URL:https://ausschreibungsradar.com/ausschreibung/cb272992-c334-42e3-a07f-52889d1bed97/
END:VEVENT
BEGIN:VEVENT
UID:82d3f71e522eb3e9@ausschreibungsradar.com
DTSTAMP:20260424T143822Z
DTSTART;VALUE=DATE:20260320
DTEND;VALUE=DATE:20260320
SUMMARY:Ausschreibung — Beschaffung eines Netzwerkmanagement Tools
DESCRIPTION:Phase: Ausschreibung | Beschreibung: Offizielle Ausschreibung mit Bieterfrist. | Link: https://ausschreibungsradar.com/ausschreibung/dc536c39-34a8-4060-bea4-42da6278bb19/
URL:https://ausschreibungsradar.com/ausschreibung/dc536c39-34a8-4060-bea4-42da6278bb19/
END:VEVENT
END:VCALENDAR
