BEGIN:VCALENDAR
VERSION:2.0
PRODID:-//AusschreibungsRadar//Timeline//DE
CALSCALE:GREGORIAN
METHOD:PUBLISH
X-WR-CALNAME:Projekt Trägerschaft Offene Ganztagsschulen (OGS) Stadt Pulheim
X-WR-TIMEZONE:Europe/Berlin
BEGIN:VEVENT
UID:e541780eb38c8d65@ausschreibungsradar.com
DTSTAMP:20260424T091218Z
DTSTART;VALUE=DATE:20241108
DTEND;VALUE=DATE:20241108
SUMMARY:Ausschreibung — Trägerschaft Offene Ganztagsschulen (OGS) Stadt Pulheim
DESCRIPTION:Phase: Ausschreibung | Beschreibung: Angebote werden eingeholt | Link: https://ausschreibungsradar.com/ausschreibung/cb6b912b-3b85-4daa-a80e-07dd685f575b/
URL:https://ausschreibungsradar.com/ausschreibung/cb6b912b-3b85-4daa-a80e-07dd685f575b/
END:VEVENT
BEGIN:VEVENT
UID:118ed4d03a649915@ausschreibungsradar.com
DTSTAMP:20260424T091218Z
DTSTART;VALUE=DATE:20241108
DTEND;VALUE=DATE:20241108
SUMMARY:Ausschreibung — Trägerschaft Offene Ganztagsschulen (OGS) Stadt Pulheim
DESCRIPTION:Phase: Ausschreibung | Beschreibung: Offizielle Ausschreibung mit Bieterfrist. | Link: https://ausschreibungsradar.com/ausschreibung/a1c5f4d3-ab12-4c00-8c87-30e181d45f0e/
URL:https://ausschreibungsradar.com/ausschreibung/a1c5f4d3-ab12-4c00-8c87-30e181d45f0e/
END:VEVENT
END:VCALENDAR
