BEGIN:VCALENDAR
VERSION:2.0
PRODID:-//AusschreibungsRadar//Timeline//DE
CALSCALE:GREGORIAN
METHOD:PUBLISH
X-WR-CALNAME:Projekt A 24, km 158 - 166, linke RF - Los 1 VS
X-WR-TIMEZONE:Europe/Berlin
BEGIN:VEVENT
UID:f2a7a53370182c60@ausschreibungsradar.com
DTSTAMP:20260426T030322Z
DTSTART;VALUE=DATE:20260113
DTEND;VALUE=DATE:20260113
SUMMARY:Angebotsfrist — A 24\, km 158 - 166\, linke RF - Los 1 VS
DESCRIPTION:Phase: Ausschreibung | Beschreibung: Angebote werden eingeholt | Link: https://ausschreibungsradar.com/ausschreibung/d7bfa7c4-4c9f-4063-a1af-f3dfd2c829ea/
URL:https://ausschreibungsradar.com/ausschreibung/d7bfa7c4-4c9f-4063-a1af-f3dfd2c829ea/
END:VEVENT
BEGIN:VEVENT
UID:7c115d4987636aeb@ausschreibungsradar.com
DTSTAMP:20260426T030322Z
DTSTART;VALUE=DATE:20260302
DTEND;VALUE=DATE:20260302
SUMMARY:Vergabeergebnis — A 24\, km 158 - 166\, linke RF - Los 1 VS
DESCRIPTION:Phase: Vergabeergebnis | Beschreibung: Auftrag wurde zugeschlagen | Link: https://ausschreibungsradar.com/ausschreibung/cba03823-1a9c-478f-9bef-95ce502801cc/
URL:https://ausschreibungsradar.com/ausschreibung/cba03823-1a9c-478f-9bef-95ce502801cc/
END:VEVENT
BEGIN:VEVENT
UID:9d595da75f33076c@ausschreibungsradar.com
DTSTAMP:20260426T030322Z
DTSTART;VALUE=DATE:20260302
DTEND;VALUE=DATE:20260302
SUMMARY:Zuschlag — A 24\, km 158 - 166\, linke RF - Los 1 VS
DESCRIPTION:Phase: Zuschlag | Beschreibung: Vergabeergebnis — Auftrag wurde erteilt oder Verfahren beendet. | Link: https://ausschreibungsradar.com/ausschreibung/41850e29-9243-4868-89f2-f025823e2cff/
URL:https://ausschreibungsradar.com/ausschreibung/41850e29-9243-4868-89f2-f025823e2cff/
END:VEVENT
END:VCALENDAR
