BEGIN:VCALENDAR
VERSION:2.0
PRODID:-//AusschreibungsRadar//Timeline//DE
CALSCALE:GREGORIAN
METHOD:PUBLISH
X-WR-CALNAME:Projekt Modernisierung Frankenbad Tauberbischofsheim- Dachdecker- un
X-WR-TIMEZONE:Europe/Berlin
BEGIN:VEVENT
UID:d4ad3b37491a6443@ausschreibungsradar.com
DTSTAMP:20260425T130225Z
DTSTART;VALUE=DATE:20241018
DTEND;VALUE=DATE:20241018
SUMMARY:Ausschreibung — Modernisierung Frankenbad Tauberbischofsheim- Dachdecker- un
DESCRIPTION:Phase: Ausschreibung | Beschreibung: Offizielle Ausschreibung mit Bieterfrist. | Link: https://ausschreibungsradar.com/ausschreibung/270b0774-80ff-4043-a0f7-9652079c99d7/
URL:https://ausschreibungsradar.com/ausschreibung/270b0774-80ff-4043-a0f7-9652079c99d7/
END:VEVENT
BEGIN:VEVENT
UID:82d545221f1fd117@ausschreibungsradar.com
DTSTAMP:20260425T130225Z
DTSTART;VALUE=DATE:20241020
DTEND;VALUE=DATE:20241020
SUMMARY:Ausschreibung — Modernisierung Frankenbad Tauberbischofsheim- Dachdecker- un
DESCRIPTION:Phase: Ausschreibung | Beschreibung: Offizielle Ausschreibung mit Bieterfrist. | Link: https://ausschreibungsradar.com/ausschreibung/19de27dc-0f70-406a-b98e-6bf9153625a2/
URL:https://ausschreibungsradar.com/ausschreibung/19de27dc-0f70-406a-b98e-6bf9153625a2/
END:VEVENT
BEGIN:VEVENT
UID:238a2759be7381b5@ausschreibungsradar.com
DTSTAMP:20260425T130225Z
DTSTART;VALUE=DATE:20241117
DTEND;VALUE=DATE:20241117
SUMMARY:Ausschreibung — Modernisierung Frankenbad Tauberbischofsheim- Dachdecker- un
DESCRIPTION:Phase: Ausschreibung | Beschreibung: Offizielle Ausschreibung mit Bieterfrist. | Link: https://ausschreibungsradar.com/ausschreibung/3d6470e9-df08-47c2-9444-650d69944265/
URL:https://ausschreibungsradar.com/ausschreibung/3d6470e9-df08-47c2-9444-650d69944265/
END:VEVENT
BEGIN:VEVENT
UID:ecfc531ccf9ec63c@ausschreibungsradar.com
DTSTAMP:20260425T130225Z
DTSTART;VALUE=DATE:20241117
DTEND;VALUE=DATE:20241117
SUMMARY:Ausschreibung — Modernisierung Frankenbad Tauberbischofsheim- Dachdecker- un
DESCRIPTION:Phase: Ausschreibung | Beschreibung: Offizielle Ausschreibung mit Bieterfrist. | Link: https://ausschreibungsradar.com/ausschreibung/e124a164-74d8-4589-8c58-a95b4417ae0a/
URL:https://ausschreibungsradar.com/ausschreibung/e124a164-74d8-4589-8c58-a95b4417ae0a/
END:VEVENT
BEGIN:VEVENT
UID:bc288f290c45ebf1@ausschreibungsradar.com
DTSTAMP:20260425T130225Z
DTSTART;VALUE=DATE:20250120
DTEND;VALUE=DATE:20250120
SUMMARY:Angebotsfrist — Modernisierung Frankenbad Tauberbischofsheim- Dachdecker- un
DESCRIPTION:Phase: Ausschreibung | Beschreibung: Angebote werden eingeholt | Link: https://ausschreibungsradar.com/ausschreibung/cbb72238-1bf5-4acf-8b53-dc3b8c34f128/ | Geschätzter Wert: 430000 €
URL:https://ausschreibungsradar.com/ausschreibung/cbb72238-1bf5-4acf-8b53-dc3b8c34f128/
END:VEVENT
BEGIN:VEVENT
UID:c30d8fd6abc67e29@ausschreibungsradar.com
DTSTAMP:20260425T130225Z
DTSTART;VALUE=DATE:20241214
DTEND;VALUE=DATE:20241214
SUMMARY:Ausschreibung — Modernisierung Frankenbad Tauberbischofsheim- Dachdecker- un
DESCRIPTION:Phase: Ausschreibung | Beschreibung: Offizielle Ausschreibung mit Bieterfrist. | Link: https://ausschreibungsradar.com/ausschreibung/72648619-d73c-4d68-a43e-43546bfdccad/
URL:https://ausschreibungsradar.com/ausschreibung/72648619-d73c-4d68-a43e-43546bfdccad/
END:VEVENT
END:VCALENDAR
